BEGIN:VCALENDAR
VERSION:2.0
PRODID:-//Servicio de Inscripciones Municipales - ECPv6.15.20//NONSGML v1.0//EN
CALSCALE:GREGORIAN
METHOD:PUBLISH
X-ORIGINAL-URL:https://inscripciones.ayto-alcaladehenares.es
X-WR-CALDESC:Eventos para Servicio de Inscripciones Municipales
REFRESH-INTERVAL;VALUE=DURATION:PT1H
X-Robots-Tag:noindex
X-PUBLISHED-TTL:PT1H
BEGIN:VTIMEZONE
TZID:Europe/Madrid
BEGIN:DAYLIGHT
TZOFFSETFROM:+0100
TZOFFSETTO:+0200
TZNAME:CEST
DTSTART:20240331T010000
END:DAYLIGHT
BEGIN:STANDARD
TZOFFSETFROM:+0200
TZOFFSETTO:+0100
TZNAME:CET
DTSTART:20241027T010000
END:STANDARD
BEGIN:DAYLIGHT
TZOFFSETFROM:+0100
TZOFFSETTO:+0200
TZNAME:CEST
DTSTART:20250330T010000
END:DAYLIGHT
BEGIN:STANDARD
TZOFFSETFROM:+0200
TZOFFSETTO:+0100
TZNAME:CET
DTSTART:20251026T010000
END:STANDARD
BEGIN:DAYLIGHT
TZOFFSETFROM:+0100
TZOFFSETTO:+0200
TZNAME:CEST
DTSTART:20260329T010000
END:DAYLIGHT
BEGIN:STANDARD
TZOFFSETFROM:+0200
TZOFFSETTO:+0100
TZNAME:CET
DTSTART:20261025T010000
END:STANDARD
END:VTIMEZONE
BEGIN:VEVENT
DTSTART;TZID=Europe/Madrid:20251108T110000
DTEND;TZID=Europe/Madrid:20251108T123000
DTSTAMP:20260423T115030
CREATED:20250908T070015Z
LAST-MODIFIED:20250908T071411Z
UID:10002111-1762599600-1762605000@inscripciones.ayto-alcaladehenares.es
SUMMARY:[Lista de espera] Paseo Arboreto Dehesa del Batán - 8 de noviembre
DESCRIPTION:  \n[LISTA DE ESPERA] \nEVENTO PARA TODOS LOS PÚBLICOS \nDURACIÓN: 1H30 \nDIFICULTAD: BAJA \nPUNTO DE ENCUENTRO: ENTRADA AUDITORIO PACO DE LUCÍA \nEsta actividad da a conocer en profundidad el Parque Arboreto Dehesa de Batán. Su vegetación\, elementos singulares\, características\, beneficios que nos reportan\, etc. a través de paseos guiados con un educador ambiental.
URL:https://inscripciones.ayto-alcaladehenares.es/evento/lista-de-espera-paseo-arboreto-dehesa-del-batan-8-de-noviembre/
LOCATION:Privado: Entrada Auditorio Paco de Lucía\, Av. Reyes Católicos\, 51\, Alcalá de Henares\, Madrid\, 28803\, España
CATEGORIES:Listas de espera Rutas ambientales 2024-2025
ATTACH;FMTTYPE=image/jpeg:https://inscripciones.ayto-alcaladehenares.es/wp-content/uploads/2024/08/Ruta-paseo-arboreto-dehesa-del-batan-e1725007833656.jpg
ORGANIZER;CN="Concejal%C3%ADa de Medio Ambiente":MAILTO:cmedioambiente@ayto-alcaladehenares.es
END:VEVENT
BEGIN:VEVENT
DTSTART;TZID=Europe/Madrid:20251108T110000
DTEND;TZID=Europe/Madrid:20251108T123000
DTSTAMP:20260423T115031
CREATED:20250908T070059Z
LAST-MODIFIED:20250908T070351Z
UID:10002110-1762599600-1762605000@inscripciones.ayto-alcaladehenares.es
SUMMARY:Paseo Arboreto Dehesa del Batán - 8 de noviembre
DESCRIPTION:  \nEVENTO PARA TODOS LOS PÚBLICOS \nDURACIÓN: 1H30 \nDIFICULTAD: BAJA \nPUNTO DE ENCUENTRO: ENTRADA AUDITORIO PACO DE LUCÍA \nEsta actividad da a conocer en profundidad el Parque Arboreto Dehesa de Batán. Su vegetación\, elementos singulares\, características\, beneficios que nos reportan\, etc. a través de paseos guiados con un educador ambiental. \n\nLista de Espera
URL:https://inscripciones.ayto-alcaladehenares.es/evento/paseo-arboreto-dehesa-del-batan-8-de-noviembre/
LOCATION:Privado: Entrada Auditorio Paco de Lucía\, Av. Reyes Católicos\, 51\, Alcalá de Henares\, Madrid\, 28803\, España
CATEGORIES:Rutas Ambientales,Rutas Ambientales 2025-2026
ATTACH;FMTTYPE=image/jpeg:https://inscripciones.ayto-alcaladehenares.es/wp-content/uploads/2024/08/Ruta-paseo-arboreto-dehesa-del-batan-e1725007833656.jpg
ORGANIZER;CN="Concejal%C3%ADa de Medio Ambiente":MAILTO:cmedioambiente@ayto-alcaladehenares.es
END:VEVENT
BEGIN:VEVENT
DTSTART;TZID=Europe/Madrid:20251108T113000
DTEND;TZID=Europe/Madrid:20251108T123000
DTSTAMP:20260423T115031
CREATED:20250922T080000Z
LAST-MODIFIED:20250918T065506Z
UID:10002169-1762601400-1762605000@inscripciones.ayto-alcaladehenares.es
SUMMARY:LISTA DE ESPERA - MASCOTAS CON LEGO
DESCRIPTION:  \n\nEl plazo de inscripción se abrirá el próximo 29 de septiembre a partir de las 10:00. \nTipo de evento: TALLER DE MASCOTAS CON LEGO \nCompañía que lo realiza: EOM \nRango de edad: EDAD DE 3 A 5 AÑOS. \nMÁXIMO DOS MENORES  POR INSCRIPCIÓN ACOMPAÑADOS DE 1 ADULTO \nLos menores accederán acompañados de solo un adulto por menor a la actividad. \nLUGAR: Junta de distrito II\, C/Reyes Católicos nº9 \nDescripción: \n¡Taller donde la imaginación y la creatividad serán las protagonistas! \nLes facilitaremos unas plantillas y les explicaremos como crear su mascota favorita y a partir de ahí podrán decorarla y crearla totalmente a su gusto… \n 
URL:https://inscripciones.ayto-alcaladehenares.es/evento/lista-de-espera-mascotas-con-lego-ii/
LOCATION:Junta Municipal del Distrito II\, Av. Reyes Católicos\, 9\, Alcalá de Henares\, Madrid\, 28803\, España
CATEGORIES:Distrito II 2025 OFJ Lista de Espera
ATTACH;FMTTYPE=image/png:https://inscripciones.ayto-alcaladehenares.es/wp-content/uploads/2025/09/MASCOTAS-CON-LEGO.png
ORGANIZER;CN="Concejal%C3%ADa de Familia%2C Juventud e Infancia":MAILTO:infancia@ayto-alcaladehenares.es
END:VEVENT
BEGIN:VEVENT
DTSTART;TZID=Europe/Madrid:20251108T173000
DTEND;TZID=Europe/Madrid:20251108T183000
DTSTAMP:20260423T115031
CREATED:20250922T080019Z
LAST-MODIFIED:20250918T065033Z
UID:10002167-1762623000-1762626600@inscripciones.ayto-alcaladehenares.es
SUMMARY:LISTA DE ESPERA - MASCOTAS CON LEGO
DESCRIPTION:  \n\nEl plazo de inscripción se abrirá el próximo 29 de septiembre a partir de las 10:00. \nTipo de evento: TALLER DE MASCOTAS CON LEGO \nCompañía que lo realiza: EOM \nRango de edad: EDAD DE 3 A 5 AÑOS. \nMÁXIMO DOS MENORES  POR INSCRIPCIÓN ACOMPAÑADOS DE 1 ADULTO \nLos menores accederán acompañados de solo un adulto por menor a la actividad. \nLUGAR: Junta de distrito IV\, C/Octavio Paz nº15 \nDescripción: \n¡Taller donde la imaginación y la creatividad serán las protagonistas! \nLes facilitaremos unas plantillas y les explicaremos como crear su mascota favorita y a partir de ahí podrán decorarla y crearla totalmente a su gusto… \n 
URL:https://inscripciones.ayto-alcaladehenares.es/evento/lista-de-espera-mascotas-con-lego-iv/
LOCATION:Junta Municipal del Distrito IV\, C/ de Octavio Paz\, 15\, Alcalá de Henares\, Madrid\, 28806\, España
CATEGORIES:Distrito IV 2025 OFJ Lista de Espera
ATTACH;FMTTYPE=image/png:https://inscripciones.ayto-alcaladehenares.es/wp-content/uploads/2025/09/MASCOTAS-CON-LEGO.png
ORGANIZER;CN="Concejal%C3%ADa de Familia%2C Juventud e Infancia":MAILTO:infancia@ayto-alcaladehenares.es
END:VEVENT
BEGIN:VEVENT
DTSTART;TZID=Europe/Madrid:20251108T173000
DTEND;TZID=Europe/Madrid:20251108T183000
DTSTAMP:20260423T115031
CREATED:20250922T080050Z
LAST-MODIFIED:20250918T064848Z
UID:10002165-1762623000-1762626600@inscripciones.ayto-alcaladehenares.es
SUMMARY:MASCOTAS CON LEGO
DESCRIPTION:  \n\nEl plazo de inscripción se abrirá el próximo 29 de septiembre a partir de las 10:00. \nTipo de evento: TALLER DE MASCOTAS CON LEGO \nCompañía que lo realiza: EOM \nRango de edad: EDAD DE 3 A 5 AÑOS. \nMÁXIMO DOS MENORES  POR INSCRIPCIÓN ACOMPAÑADOS DE 1 ADULTO \nLos menores accederán acompañados de solo un adulto por menor a la actividad. \nLUGAR: Junta de distrito IV\, C/Octavio Paz nº15 \nDescripción: \n¡Taller donde la imaginación y la creatividad serán las protagonistas! \nLes facilitaremos unas plantillas y les explicaremos como crear su mascota favorita y a partir de ahí podrán decorarla y crearla totalmente a su gusto… \n 
URL:https://inscripciones.ayto-alcaladehenares.es/evento/mascotas-con-lego-iv/
LOCATION:Junta Municipal del Distrito IV\, C/ de Octavio Paz\, 15\, Alcalá de Henares\, Madrid\, 28806\, España
CATEGORIES:Distrito IV 2025 OFJ
ATTACH;FMTTYPE=image/png:https://inscripciones.ayto-alcaladehenares.es/wp-content/uploads/2025/09/MASCOTAS-CON-LEGO.png
ORGANIZER;CN="Concejal%C3%ADa de Familia%2C Juventud e Infancia":MAILTO:infancia@ayto-alcaladehenares.es
END:VEVENT
END:VCALENDAR