BEGIN:VCALENDAR
VERSION:2.0
PRODID:-//Servicio de Inscripciones Municipales - ECPv6.15.20//NONSGML v1.0//EN
CALSCALE:GREGORIAN
METHOD:PUBLISH
X-ORIGINAL-URL:https://inscripciones.ayto-alcaladehenares.es
X-WR-CALDESC:Eventos para Servicio de Inscripciones Municipales
REFRESH-INTERVAL;VALUE=DURATION:PT1H
X-Robots-Tag:noindex
X-PUBLISHED-TTL:PT1H
BEGIN:VTIMEZONE
TZID:Europe/Madrid
BEGIN:DAYLIGHT
TZOFFSETFROM:+0100
TZOFFSETTO:+0200
TZNAME:CEST
DTSTART:20240331T010000
END:DAYLIGHT
BEGIN:STANDARD
TZOFFSETFROM:+0200
TZOFFSETTO:+0100
TZNAME:CET
DTSTART:20241027T010000
END:STANDARD
BEGIN:DAYLIGHT
TZOFFSETFROM:+0100
TZOFFSETTO:+0200
TZNAME:CEST
DTSTART:20250330T010000
END:DAYLIGHT
BEGIN:STANDARD
TZOFFSETFROM:+0200
TZOFFSETTO:+0100
TZNAME:CET
DTSTART:20251026T010000
END:STANDARD
BEGIN:DAYLIGHT
TZOFFSETFROM:+0100
TZOFFSETTO:+0200
TZNAME:CEST
DTSTART:20260329T010000
END:DAYLIGHT
BEGIN:STANDARD
TZOFFSETFROM:+0200
TZOFFSETTO:+0100
TZNAME:CET
DTSTART:20261025T010000
END:STANDARD
END:VTIMEZONE
BEGIN:VEVENT
DTSTART;TZID=Europe/Madrid:20251116T113000
DTEND;TZID=Europe/Madrid:20251116T123000
DTSTAMP:20260419T224455
CREATED:20250922T080051Z
LAST-MODIFIED:20251006T121145Z
UID:10002187-1763292600-1763296200@inscripciones.ayto-alcaladehenares.es
SUMMARY:TALLER  “EL CUBO MUSICAL” TALLER DE ESTIMULACIÓN TEMPRANA CON INSTRUMENTOS
DESCRIPTION:  \n\nEl plazo de inscripción se abrirá el próximo 29 de septiembre a partir de las 10:00. \nTipo de evento: TALLER \nCompañía que lo realiza:  TOTEMCAMP \nRango de edad:  TURNO 1: BEBÉS DE 6 A 18 MESES \, ACOMPAÑADOS DE 1 ADULTO / TURNO 2: BEBÉS DE 19 A 36 MESES \, ACOMPAÑADOS DE 1 ADULTO \nSOLO PODRÁN APUNTARSE UN BEBÉ CON UN ADULTO POR INSCRIPCIÓN \nLUGAR: Junta de distrito IV\, C/Octavio Paz nº15 \nDescripción: \nEstimulación temprana a través de instrumentos musicales\, elementos visuales y experimentación libre con objetos sonoros. La sesión terminará con cuentos musicales y canciones de regazo. \nSELECCIONA TU TURNO \n 
URL:https://inscripciones.ayto-alcaladehenares.es/evento/taller-el-cubo-musical-taller-de-estimulacion-temprana-con-instrumentos-4/
LOCATION:Junta Municipal del Distrito IV\, C/ de Octavio Paz\, 15\, Alcalá de Henares\, Madrid\, 28806\, España
CATEGORIES:Distrito II 2025 OFJ
ATTACH;FMTTYPE=image/jpeg:https://inscripciones.ayto-alcaladehenares.es/wp-content/uploads/2025/09/TALLER-MUSICAL.jpg
ORGANIZER;CN="Concejal%C3%ADa de Familia%2C Juventud e Infancia":MAILTO:infancia@ayto-alcaladehenares.es
END:VEVENT
BEGIN:VEVENT
DTSTART;TZID=Europe/Madrid:20251109T113000
DTEND;TZID=Europe/Madrid:20251109T123000
DTSTAMP:20260419T224455
CREATED:20250922T080040Z
LAST-MODIFIED:20250918T065351Z
UID:10002168-1762687800-1762691400@inscripciones.ayto-alcaladehenares.es
SUMMARY:MASCOTAS CON LEGO
DESCRIPTION:  \n\nEl plazo de inscripción se abrirá el próximo 29 de septiembre a partir de las 10:00. \nTipo de evento: TALLER DE MASCOTAS CON LEGO \nCompañía que lo realiza: EOM \nRango de edad: EDAD DE 3 A 5 AÑOS. \nMÁXIMO DOS MENORES  POR INSCRIPCIÓN ACOMPAÑADOS DE 1 ADULTO \nLos menores accederán acompañados de solo un adulto por menor a la actividad. \nLUGAR: Junta de distrito II\, C/Reyes Católicos nº9 \nDescripción: \n¡Taller donde la imaginación y la creatividad serán las protagonistas! \nLes facilitaremos unas plantillas y les explicaremos como crear su mascota favorita y a partir de ahí podrán decorarla y crearla totalmente a su gusto… \n 
URL:https://inscripciones.ayto-alcaladehenares.es/evento/mascotas-con-lego-ii/
LOCATION:Junta Municipal del Distrito II\, Av. Reyes Católicos\, 9\, Alcalá de Henares\, Madrid\, 28803\, España
CATEGORIES:Distrito II 2025 OFJ
ATTACH;FMTTYPE=image/png:https://inscripciones.ayto-alcaladehenares.es/wp-content/uploads/2025/09/MASCOTAS-CON-LEGO.png
ORGANIZER;CN="Concejal%C3%ADa de Familia%2C Juventud e Infancia":MAILTO:infancia@ayto-alcaladehenares.es
END:VEVENT
BEGIN:VEVENT
DTSTART;TZID=Europe/Madrid:20251102T120000
DTEND;TZID=Europe/Madrid:20251102T130000
DTSTAMP:20260419T224455
CREATED:20250922T080045Z
LAST-MODIFIED:20250918T065339Z
UID:10002166-1762084800-1762088400@inscripciones.ayto-alcaladehenares.es
SUMMARY:TALLER DE ASTROBIOLOGÍA CON MICROSCOPIOS
DESCRIPTION:  \n\nEl plazo de inscripción se abrirá el próximo 29 de septiembre a partir de las 10:00. \nTipo de evento: TALLER \nCompañía que lo realiza:  ASTROAFICIÓN \nRango de edad: DE 6 A 12 AÑOS. \nMÁXIMO DOS MENORES  POR INSCRIPCIÓN \nLos menores accederán acompañados de solo un  adulto por menor a la actividad. \nLUGAR: Junta de distrito II\, C/Reyes Católicos nº9 \nDescripción: \n¿Qué es la vida? ¿Qué piezas necesita? ¿Se formó en la Tierra o viene del universo? \nGracias a microscopios profesionales daremos respuesta a estas y otras muchas preguntas mientras conocemos: \nMaterial extraterrestre (láminas delgadas de meteoritos). \nVida vegetal\, en la que analizar la estructura de las células Muestras de vida animal microscópica con nuestras preparaciones de rotíferos o tardígrados. \n¡Descubre la astrobiología y da rienda suelta a tu curiosidad! \nDURACIÓN 1\,15H
URL:https://inscripciones.ayto-alcaladehenares.es/evento/taller-de-astrobiologia-con-microscopios-ii/
LOCATION:Junta Municipal del Distrito II\, Av. Reyes Católicos\, 9\, Alcalá de Henares\, Madrid\, 28803\, España
CATEGORIES:Distrito II 2025 OFJ
ATTACH;FMTTYPE=image/png:https://inscripciones.ayto-alcaladehenares.es/wp-content/uploads/2025/09/ASTROBIOLOGIA-CON-MICROSCOPIOS.png
ORGANIZER;CN="Concejal%C3%ADa de Familia%2C Juventud e Infancia":MAILTO:infancia@ayto-alcaladehenares.es
END:VEVENT
END:VCALENDAR