BEGIN:VCALENDAR
VERSION:2.0
PRODID:-//Servicio de Inscripciones Municipales - ECPv6.15.20//NONSGML v1.0//EN
CALSCALE:GREGORIAN
METHOD:PUBLISH
X-ORIGINAL-URL:https://inscripciones.ayto-alcaladehenares.es
X-WR-CALDESC:Eventos para Servicio de Inscripciones Municipales
REFRESH-INTERVAL;VALUE=DURATION:PT1H
X-Robots-Tag:noindex
X-PUBLISHED-TTL:PT1H
BEGIN:VTIMEZONE
TZID:Europe/Madrid
BEGIN:DAYLIGHT
TZOFFSETFROM:+0100
TZOFFSETTO:+0200
TZNAME:CEST
DTSTART:20250330T010000
END:DAYLIGHT
BEGIN:STANDARD
TZOFFSETFROM:+0200
TZOFFSETTO:+0100
TZNAME:CET
DTSTART:20251026T010000
END:STANDARD
BEGIN:DAYLIGHT
TZOFFSETFROM:+0100
TZOFFSETTO:+0200
TZNAME:CEST
DTSTART:20260329T010000
END:DAYLIGHT
BEGIN:STANDARD
TZOFFSETFROM:+0200
TZOFFSETTO:+0100
TZNAME:CET
DTSTART:20261025T010000
END:STANDARD
BEGIN:DAYLIGHT
TZOFFSETFROM:+0100
TZOFFSETTO:+0200
TZNAME:CEST
DTSTART:20270328T010000
END:DAYLIGHT
BEGIN:STANDARD
TZOFFSETFROM:+0200
TZOFFSETTO:+0100
TZNAME:CET
DTSTART:20271031T010000
END:STANDARD
END:VTIMEZONE
BEGIN:VEVENT
DTSTART;TZID=Europe/Madrid:20260221T173000
DTEND;TZID=Europe/Madrid:20260221T183000
DTSTAMP:20260420T093700
CREATED:20260205T090047Z
LAST-MODIFIED:20260206T112538Z
UID:10002305-1771695000-1771698600@inscripciones.ayto-alcaladehenares.es
SUMMARY:Teatro de Títeres y Multimedia\, “Nuestra Fantasticalle”
DESCRIPTION:Tipo de Evento: ESPECTÁCULO \nEdad Recomendada: DE 4 A 9 AÑOS \nLugar: JUNTA MUNICIPAL DE DISTRITO IV – C/Octavio Paz nº15 \nA cargo de: «ZAGUAN TEATRO» \nIMPORTANTE: Todos los niños y niñas asistirán siempre acompañados solo un adulto por menor. \nNO SE REQUIERE INSCRIPCIÓN PREVIA. Las entradas se entregará en la puesta de acceso\, 30 minutos antes de cada espectáculo. \nDescripción: \nEn una ciudad cualquiera\, en una calle cualquiera\, surgen unos personajes cualesquiera que enfrentan problemas cualesquiera. \nLa solución podría ser cualquiera… pero ¡no! Las soluciones están plenas de magia\, juego\, cariño y la complicidad del público. \nSegis (un músico apasionado)\, Pantru (una colorida caricaturista)\, Luchín (un travieso pequeñín) y Fermín (el cocodrilo poeta) nos maravillarán y nos harán partirnos de la risa. \nHistorias contadas por sorprendentes marionetas que saltan desde dibujos animados proyectados sobre el escenario. Una obra no verbal que reivindica la importancia de la fantasía\, lo lúdico y el arte en nuestras vidas
URL:https://inscripciones.ayto-alcaladehenares.es/evento/teatro-de-titeres-y-multimedia-nuestra-fantasticalle/
LOCATION:Junta de Distrito IV\, C/Octavio Paz\, 15\, Alcalá de Henares\, Madrid\, 28801\, España
CATEGORIES:Espectáculos - Distrito IV
ATTACH;FMTTYPE=image/png:https://inscripciones.ayto-alcaladehenares.es/wp-content/uploads/2026/01/Nuestra-Fantasticalle.png
ORGANIZER;CN="Concejal%C3%ADa de Familia%2C Juventud e Infancia":MAILTO:infancia@ayto-alcaladehenares.es
END:VEVENT
END:VCALENDAR