BEGIN:VCALENDAR
VERSION:2.0
PRODID:-//Servicio de Inscripciones Municipales - ECPv6.15.20//NONSGML v1.0//EN
CALSCALE:GREGORIAN
METHOD:PUBLISH
X-ORIGINAL-URL:https://inscripciones.ayto-alcaladehenares.es
X-WR-CALDESC:Eventos para Servicio de Inscripciones Municipales
REFRESH-INTERVAL;VALUE=DURATION:PT1H
X-Robots-Tag:noindex
X-PUBLISHED-TTL:PT1H
BEGIN:VTIMEZONE
TZID:Europe/Madrid
BEGIN:DAYLIGHT
TZOFFSETFROM:+0100
TZOFFSETTO:+0200
TZNAME:CEST
DTSTART:20240331T010000
END:DAYLIGHT
BEGIN:STANDARD
TZOFFSETFROM:+0200
TZOFFSETTO:+0100
TZNAME:CET
DTSTART:20241027T010000
END:STANDARD
BEGIN:DAYLIGHT
TZOFFSETFROM:+0100
TZOFFSETTO:+0200
TZNAME:CEST
DTSTART:20250330T010000
END:DAYLIGHT
BEGIN:STANDARD
TZOFFSETFROM:+0200
TZOFFSETTO:+0100
TZNAME:CET
DTSTART:20251026T010000
END:STANDARD
BEGIN:DAYLIGHT
TZOFFSETFROM:+0100
TZOFFSETTO:+0200
TZNAME:CEST
DTSTART:20260329T010000
END:DAYLIGHT
BEGIN:STANDARD
TZOFFSETFROM:+0200
TZOFFSETTO:+0100
TZNAME:CET
DTSTART:20261025T010000
END:STANDARD
END:VTIMEZONE
BEGIN:VEVENT
DTSTART;TZID=Europe/Madrid:20250704T125000
DTEND;TZID=Europe/Madrid:20250704T133000
DTSTAMP:20260425T133008
CREATED:20250609T093220Z
LAST-MODIFIED:20250618T055432Z
UID:10002094-1751633400-1751635800@inscripciones.ayto-alcaladehenares.es
SUMMARY:Escape Room al Aire Libre "INVASIÓN ALIENÍGENA" - Grupo 12
DESCRIPTION:MÁXIMO DOS MENORES  POR INSCRIPCIÓN\nLos menores accederán solos a la actividad\, los adultos no podrán acceder al edificio.\nCentro Fia\, C/ Paula Montal S/N\nEDAD DE 12 A 16 AÑOS\nCompañía que lo realiza: GAUDIRE \n  \n\n 
URL:https://inscripciones.ayto-alcaladehenares.es/evento/escape-room-al-aire-libre-invasion-alienigena-grupo-12/
LOCATION:El Centro Fia\, C/Paula Montal S/N\, Alcalá de Henares\, Madrid\, 28805\, España
CATEGORIES:Grupos - Invasión Alienígena
ATTACH;FMTTYPE=image/png:https://inscripciones.ayto-alcaladehenares.es/wp-content/uploads/2025/06/Invasion_alienigena.png
ORGANIZER;CN="Concejal%C3%ADa de Familia%2C Juventud e Infancia":MAILTO:infancia@ayto-alcaladehenares.es
END:VEVENT
BEGIN:VEVENT
DTSTART;TZID=Europe/Madrid:20250704T124000
DTEND;TZID=Europe/Madrid:20250704T132000
DTSTAMP:20260425T133008
CREATED:20250609T093111Z
LAST-MODIFIED:20250618T055442Z
UID:10002093-1751632800-1751635200@inscripciones.ayto-alcaladehenares.es
SUMMARY:Escape Room al Aire Libre "INVASIÓN ALIENÍGENA" - Grupo 11
DESCRIPTION:MÁXIMO DOS MENORES  POR INSCRIPCIÓN\nLos menores accederán solos a la actividad\, los adultos no podrán acceder al edificio.\nCentro Fia\, C/ Paula Montal S/N\nEDAD DE 12 A 16 AÑOS\nCompañía que lo realiza: GAUDIRE \n  \n\n 
URL:https://inscripciones.ayto-alcaladehenares.es/evento/escape-room-al-aire-libre-invasion-alienigena-grupo-11/
LOCATION:El Centro Fia\, C/Paula Montal S/N\, Alcalá de Henares\, Madrid\, 28805\, España
CATEGORIES:Grupos - Invasión Alienígena
ATTACH;FMTTYPE=image/png:https://inscripciones.ayto-alcaladehenares.es/wp-content/uploads/2025/06/Invasion_alienigena.png
ORGANIZER;CN="Concejal%C3%ADa de Familia%2C Juventud e Infancia":MAILTO:infancia@ayto-alcaladehenares.es
END:VEVENT
BEGIN:VEVENT
DTSTART;TZID=Europe/Madrid:20250704T123000
DTEND;TZID=Europe/Madrid:20250704T131000
DTSTAMP:20260425T133008
CREATED:20250609T092926Z
LAST-MODIFIED:20250618T055446Z
UID:10002092-1751632200-1751634600@inscripciones.ayto-alcaladehenares.es
SUMMARY:Escape Room al Aire Libre "INVASIÓN ALIENÍGENA" - Grupo 10
DESCRIPTION:MÁXIMO DOS MENORES  POR INSCRIPCIÓN\nLos menores accederán solos a la actividad\, los adultos no podrán acceder al edificio.\nCentro Fia\, C/ Paula Montal S/N\nEDAD DE 12 A 16 AÑOS\nCompañía que lo realiza: GAUDIRE \n  \n\n 
URL:https://inscripciones.ayto-alcaladehenares.es/evento/escape-room-al-aire-libre-invasion-alienigena-grupo-10/
LOCATION:El Centro Fia\, C/Paula Montal S/N\, Alcalá de Henares\, Madrid\, 28805\, España
CATEGORIES:Grupos - Invasión Alienígena
ATTACH;FMTTYPE=image/png:https://inscripciones.ayto-alcaladehenares.es/wp-content/uploads/2025/06/Invasion_alienigena.png
ORGANIZER;CN="Concejal%C3%ADa de Familia%2C Juventud e Infancia":MAILTO:infancia@ayto-alcaladehenares.es
END:VEVENT
BEGIN:VEVENT
DTSTART;TZID=Europe/Madrid:20250704T122000
DTEND;TZID=Europe/Madrid:20250704T130000
DTSTAMP:20260425T133008
CREATED:20250609T092347Z
LAST-MODIFIED:20250618T055458Z
UID:10002091-1751631600-1751634000@inscripciones.ayto-alcaladehenares.es
SUMMARY:Escape Room al Aire Libre "INVASIÓN ALIENÍGENA" - Grupo 9
DESCRIPTION:MÁXIMO DOS MENORES  POR INSCRIPCIÓN\nLos menores accederán solos a la actividad\, los adultos no podrán acceder al edificio.\nCentro Fia\, C/ Paula Montal S/N\nEDAD DE 12 A 16 AÑOS\nCompañía que lo realiza: GAUDIRE \n  \n\n 
URL:https://inscripciones.ayto-alcaladehenares.es/evento/escape-room-al-aire-libre-invasion-alienigena-grupo-9/
LOCATION:El Centro Fia\, C/Paula Montal S/N\, Alcalá de Henares\, Madrid\, 28805\, España
CATEGORIES:Grupos - Invasión Alienígena
ATTACH;FMTTYPE=image/png:https://inscripciones.ayto-alcaladehenares.es/wp-content/uploads/2025/06/Invasion_alienigena.png
ORGANIZER;CN="Concejal%C3%ADa de Familia%2C Juventud e Infancia":MAILTO:infancia@ayto-alcaladehenares.es
END:VEVENT
BEGIN:VEVENT
DTSTART;TZID=Europe/Madrid:20250704T121000
DTEND;TZID=Europe/Madrid:20250704T125000
DTSTAMP:20260425T133008
CREATED:20250609T092226Z
LAST-MODIFIED:20250618T055507Z
UID:10002090-1751631000-1751633400@inscripciones.ayto-alcaladehenares.es
SUMMARY:Escape Room al Aire Libre "INVASIÓN ALIENÍGENA" - Grupo 8
DESCRIPTION:MÁXIMO DOS MENORES  POR INSCRIPCIÓN\nLos menores accederán solos a la actividad\, los adultos no podrán acceder al edificio.\nCentro Fia\, C/ Paula Montal S/N\nEDAD DE 12 A 16 AÑOS\nCompañía que lo realiza: GAUDIRE \n  \n\n 
URL:https://inscripciones.ayto-alcaladehenares.es/evento/escape-room-al-aire-libre-invasion-alienigena-grupo-8/
LOCATION:El Centro Fia\, C/Paula Montal S/N\, Alcalá de Henares\, Madrid\, 28805\, España
CATEGORIES:Grupos - Invasión Alienígena
ATTACH;FMTTYPE=image/png:https://inscripciones.ayto-alcaladehenares.es/wp-content/uploads/2025/06/Invasion_alienigena.png
ORGANIZER;CN="Concejal%C3%ADa de Familia%2C Juventud e Infancia":MAILTO:infancia@ayto-alcaladehenares.es
END:VEVENT
BEGIN:VEVENT
DTSTART;TZID=Europe/Madrid:20250704T120000
DTEND;TZID=Europe/Madrid:20250704T124000
DTSTAMP:20260425T133008
CREATED:20250609T092043Z
LAST-MODIFIED:20250618T055524Z
UID:10002089-1751630400-1751632800@inscripciones.ayto-alcaladehenares.es
SUMMARY:Escape Room al Aire Libre "INVASIÓN ALIENÍGENA" - Grupo 7
DESCRIPTION:MÁXIMO DOS MENORES  POR INSCRIPCIÓN\nLos menores accederán solos a la actividad\, los adultos no podrán acceder al edificio.\nCentro Fia\, C/ Paula Montal S/N\nEDAD DE 12 A 16 AÑOS\nCompañía que lo realiza: GAUDIRE \n  \n\n 
URL:https://inscripciones.ayto-alcaladehenares.es/evento/escape-room-al-aire-libre-invasion-alienigena-grupo-7/
LOCATION:El Centro Fia\, C/Paula Montal S/N\, Alcalá de Henares\, Madrid\, 28805\, España
CATEGORIES:Grupos - Invasión Alienígena
ATTACH;FMTTYPE=image/png:https://inscripciones.ayto-alcaladehenares.es/wp-content/uploads/2025/06/Invasion_alienigena.png
ORGANIZER;CN="Concejal%C3%ADa de Familia%2C Juventud e Infancia":MAILTO:infancia@ayto-alcaladehenares.es
END:VEVENT
BEGIN:VEVENT
DTSTART;TZID=Europe/Madrid:20250704T115000
DTEND;TZID=Europe/Madrid:20250704T123000
DTSTAMP:20260425T133008
CREATED:20250609T090938Z
LAST-MODIFIED:20250618T055526Z
UID:10002088-1751629800-1751632200@inscripciones.ayto-alcaladehenares.es
SUMMARY:Escape Room al Aire Libre "INVASIÓN ALIENÍGENA" - Grupo 6
DESCRIPTION:MÁXIMO DOS MENORES  POR INSCRIPCIÓN\nLos menores accederán solos a la actividad\, los adultos no podrán acceder al edificio.\nCentro Fia\, C/ Paula Montal S/N\nEDAD DE 12 A 16 AÑOS\nCompañía que lo realiza: GAUDIRE \n  \n\n 
URL:https://inscripciones.ayto-alcaladehenares.es/evento/escape-room-al-aire-libre-invasion-alienigena-grupo-6/
LOCATION:El Centro Fia\, C/Paula Montal S/N\, Alcalá de Henares\, Madrid\, 28805\, España
CATEGORIES:Grupos - Invasión Alienígena
ATTACH;FMTTYPE=image/png:https://inscripciones.ayto-alcaladehenares.es/wp-content/uploads/2025/06/Invasion_alienigena.png
ORGANIZER;CN="Concejal%C3%ADa de Familia%2C Juventud e Infancia":MAILTO:infancia@ayto-alcaladehenares.es
END:VEVENT
BEGIN:VEVENT
DTSTART;TZID=Europe/Madrid:20250704T114000
DTEND;TZID=Europe/Madrid:20250704T122000
DTSTAMP:20260425T133008
CREATED:20250609T090751Z
LAST-MODIFIED:20250618T055555Z
UID:10002085-1751629200-1751631600@inscripciones.ayto-alcaladehenares.es
SUMMARY:Escape Room al Aire Libre "INVASIÓN ALIENÍGENA" - Grupo 5
DESCRIPTION:MÁXIMO DOS MENORES  POR INSCRIPCIÓN\nLos menores accederán solos a la actividad\, los adultos no podrán acceder al edificio.\nCentro Fia\, C/ Paula Montal S/N\nEDAD DE 12 A 16 AÑOS\nCompañía que lo realiza: GAUDIRE \n  \n\n 
URL:https://inscripciones.ayto-alcaladehenares.es/evento/escape-room-al-aire-libre-invasion-alienigena-grupo-5/
LOCATION:El Centro Fia\, C/Paula Montal S/N\, Alcalá de Henares\, Madrid\, 28805\, España
CATEGORIES:Grupos - Invasión Alienígena
ATTACH;FMTTYPE=image/png:https://inscripciones.ayto-alcaladehenares.es/wp-content/uploads/2025/06/Invasion_alienigena.png
ORGANIZER;CN="Concejal%C3%ADa de Familia%2C Juventud e Infancia":MAILTO:infancia@ayto-alcaladehenares.es
END:VEVENT
BEGIN:VEVENT
DTSTART;TZID=Europe/Madrid:20250704T113000
DTEND;TZID=Europe/Madrid:20250704T121000
DTSTAMP:20260425T133008
CREATED:20250609T090634Z
LAST-MODIFIED:20250618T055614Z
UID:10002087-1751628600-1751631000@inscripciones.ayto-alcaladehenares.es
SUMMARY:Escape Room al Aire Libre "INVASIÓN ALIENÍGENA" - Grupo 4
DESCRIPTION:MÁXIMO DOS MENORES  POR INSCRIPCIÓN\nLos menores accederán solos a la actividad\, los adultos no podrán acceder al edificio.\nCentro Fia\, C/ Paula Montal S/N\nEDAD DE 12 A 16 AÑOS\nCompañía que lo realiza: GAUDIRE \n  \n\n 
URL:https://inscripciones.ayto-alcaladehenares.es/evento/escape-room-al-aire-libre-invasion-alienigena-grupo-4/
LOCATION:El Centro Fia\, C/Paula Montal S/N\, Alcalá de Henares\, Madrid\, 28805\, España
CATEGORIES:Grupos - Invasión Alienígena
ATTACH;FMTTYPE=image/png:https://inscripciones.ayto-alcaladehenares.es/wp-content/uploads/2025/06/Invasion_alienigena.png
ORGANIZER;CN="Concejal%C3%ADa de Familia%2C Juventud e Infancia":MAILTO:infancia@ayto-alcaladehenares.es
END:VEVENT
BEGIN:VEVENT
DTSTART;TZID=Europe/Madrid:20250704T112000
DTEND;TZID=Europe/Madrid:20250704T120000
DTSTAMP:20260425T133008
CREATED:20250609T090449Z
LAST-MODIFIED:20250618T055625Z
UID:10002086-1751628000-1751630400@inscripciones.ayto-alcaladehenares.es
SUMMARY:Escape Room al Aire Libre "INVASIÓN ALIENÍGENA" - Grupo 3
DESCRIPTION:MÁXIMO DOS MENORES  POR INSCRIPCIÓN\nLos menores accederán solos a la actividad\, los adultos no podrán acceder al edificio.\nCentro Fia\, C/ Paula Montal S/N\nEDAD DE 12 A 16 AÑOS\nCompañía que lo realiza: GAUDIRE \n  \n\n 
URL:https://inscripciones.ayto-alcaladehenares.es/evento/escape-room-al-aire-libre-invasion-alienigena-grupo-3/
LOCATION:El Centro Fia\, C/Paula Montal S/N\, Alcalá de Henares\, Madrid\, 28805\, España
CATEGORIES:Grupos - Invasión Alienígena
ATTACH;FMTTYPE=image/png:https://inscripciones.ayto-alcaladehenares.es/wp-content/uploads/2025/06/Invasion_alienigena.png
ORGANIZER;CN="Concejal%C3%ADa de Familia%2C Juventud e Infancia":MAILTO:infancia@ayto-alcaladehenares.es
END:VEVENT
BEGIN:VEVENT
DTSTART;TZID=Europe/Madrid:20250704T111000
DTEND;TZID=Europe/Madrid:20250704T115000
DTSTAMP:20260425T133008
CREATED:20250609T085815Z
LAST-MODIFIED:20250618T055717Z
UID:10002083-1751627400-1751629800@inscripciones.ayto-alcaladehenares.es
SUMMARY:Escape Room al Aire Libre "INVASIÓN ALIENÍGENA" - Grupo 2
DESCRIPTION:MÁXIMO DOS MENORES  POR INSCRIPCIÓN\nLos menores accederán solos a la actividad\, los adultos no podrán acceder al edificio.\nCentro Fia\, C/ Paula Montal S/N\nEDAD DE 12 A 16 AÑOS\nCompañía que lo realiza: GAUDIRE \n  \n\n 
URL:https://inscripciones.ayto-alcaladehenares.es/evento/escape-room-al-aire-libre-invasion-alienigena-grupo-2/
LOCATION:El Centro Fia\, C/Paula Montal S/N\, Alcalá de Henares\, Madrid\, 28805\, España
CATEGORIES:Grupos - Invasión Alienígena
ATTACH;FMTTYPE=image/png:https://inscripciones.ayto-alcaladehenares.es/wp-content/uploads/2025/06/Invasion_alienigena.png
ORGANIZER;CN="Concejal%C3%ADa de Familia%2C Juventud e Infancia":MAILTO:infancia@ayto-alcaladehenares.es
END:VEVENT
BEGIN:VEVENT
DTSTART;TZID=Europe/Madrid:20250704T110000
DTEND;TZID=Europe/Madrid:20250704T114000
DTSTAMP:20260425T133008
CREATED:20250604T095719Z
LAST-MODIFIED:20250618T055751Z
UID:10002077-1751626800-1751629200@inscripciones.ayto-alcaladehenares.es
SUMMARY:Escape Room al Aire Libre "INVASIÓN ALIENÍGENA" - Grupo 1
DESCRIPTION:MÁXIMO DOS MENORES  POR INSCRIPCIÓN\nLos menores accederán solos a la actividad\, los adultos no podrán acceder al edificio.\nCentro Fia\, C/ Paula Montal S/N\nEDAD DE 12 A 16 AÑOS\nCompañía que lo realiza: GAUDIRE \n  \n\n 
URL:https://inscripciones.ayto-alcaladehenares.es/evento/escape-room-al-aire-libre-invasion-alienigena/
LOCATION:El Centro Fia\, C/Paula Montal S/N\, Alcalá de Henares\, Madrid\, 28805\, España
CATEGORIES:Grupos - Invasión Alienígena
ATTACH;FMTTYPE=image/png:https://inscripciones.ayto-alcaladehenares.es/wp-content/uploads/2025/06/Invasion_alienigena.png
ORGANIZER;CN="Concejal%C3%ADa de Familia%2C Juventud e Infancia":MAILTO:infancia@ayto-alcaladehenares.es
END:VEVENT
END:VCALENDAR