BEGIN:VCALENDAR
VERSION:2.0
PRODID:-//Servicio de Inscripciones Municipales - ECPv6.15.20//NONSGML v1.0//EN
CALSCALE:GREGORIAN
METHOD:PUBLISH
X-WR-CALNAME:Servicio de Inscripciones Municipales
X-ORIGINAL-URL:https://inscripciones.ayto-alcaladehenares.es
X-WR-CALDESC:Eventos para Servicio de Inscripciones Municipales
REFRESH-INTERVAL;VALUE=DURATION:PT1H
X-Robots-Tag:noindex
X-PUBLISHED-TTL:PT1H
BEGIN:VTIMEZONE
TZID:Europe/Madrid
BEGIN:DAYLIGHT
TZOFFSETFROM:+0100
TZOFFSETTO:+0200
TZNAME:CEST
DTSTART:20230326T010000
END:DAYLIGHT
BEGIN:STANDARD
TZOFFSETFROM:+0200
TZOFFSETTO:+0100
TZNAME:CET
DTSTART:20231029T010000
END:STANDARD
BEGIN:DAYLIGHT
TZOFFSETFROM:+0100
TZOFFSETTO:+0200
TZNAME:CEST
DTSTART:20240331T010000
END:DAYLIGHT
BEGIN:STANDARD
TZOFFSETFROM:+0200
TZOFFSETTO:+0100
TZNAME:CET
DTSTART:20241027T010000
END:STANDARD
BEGIN:DAYLIGHT
TZOFFSETFROM:+0100
TZOFFSETTO:+0200
TZNAME:CEST
DTSTART:20250330T010000
END:DAYLIGHT
BEGIN:STANDARD
TZOFFSETFROM:+0200
TZOFFSETTO:+0100
TZNAME:CET
DTSTART:20251026T010000
END:STANDARD
END:VTIMEZONE
BEGIN:VEVENT
DTSTART;TZID=Europe/Madrid:20240601T090000
DTEND;TZID=Europe/Madrid:20240601T203000
DTSTAMP:20260423T082808
CREATED:20240321T130449Z
LAST-MODIFIED:20240703T113257Z
UID:10001507-1717232400-1717273800@inscripciones.ayto-alcaladehenares.es
SUMMARY:LISTA DE ESPERA - Excursión con visita guiada a Segovia y visita libre a la Granja de San Ildefonso y su mercado barroco - sábado 1 de junio
DESCRIPTION:| Descripción \nAprovechando las buenas temperaturas que muy probablemente tendremos ya en el mes de junio\, proponemos una estupenda excursión familiar para visitar Segovia de manera guiada durante la mañana y disfrutar durante la tarde\, coincidiendo con la celebración del mercado Barroco \, de las inmediaciones de la fantástica villa de La Granja de San Ildefonso. \nDurante la visita a la Granja de San Ildefonso\, podremos disfrutar aparte de sus habituales encantos\, de la programación prevista durante la tarde del sábado para el mercado Barroco. \nSerá una excursión que nos ocupará el día entero y que quedará en nuestra memoria como un fantástico recuerdo. \nA cargo de Eom. \n| Duración  \nDía completo \n| Aforo \nMáximo 48 participantes \n			\n			\n				\n				\n				\n				\n				\n				\n				\n				\n				\n				| Cosas a tener en cuenta \nTODOS los asistentes (menores y adultos) deberán estar inscritos en la correspondiente inscripción\, todos los miembros de la familia pueden incluirse en una misma inscripción\, podrán añadirse los miembros que se desee pulsando el botón «añadir invitado». Si no están inscritos\, no podrán realizar la actividad. \n*1. Para inscribirse en la excursión solamente es necesario cumplimentar este formulario\, NO es necesario hacer nada más. \n*2. Para inscribirse en la excursión solamente es necesario cumplimentar este formulario\, NO es necesario descargar la ficha de inscripción que se indica en el correo de confirmación. \nIMPORTANTE: Los niños deben ir acompañados de un adulto. \n  \n\nLa política de imágenes en el programa «Otra Forma de Jugar»\nLa política de Protección de Datos de Carácter Personal del Ayuntamiento de Alcalá de Henares\nLa política de privacidad del Ayuntamiento de Alcalá de Henares
URL:https://inscripciones.ayto-alcaladehenares.es/evento/lista-de-espera-excursion-guiada-segovia-y-libre-granja-san-ildefonso-y-mercado-barroco-sabado-1-de-junio/
LOCATION:Madrid
CATEGORIES:otra forma de jugar 2024
ATTACH;FMTTYPE=image/png:https://inscripciones.ayto-alcaladehenares.es/wp-content/uploads/2024/03/Excursion.png
ORGANIZER;CN="Concejal%C3%ADa de Familia%2C Juventud e Infancia":MAILTO:infancia@ayto-alcaladehenares.es
END:VEVENT
BEGIN:VEVENT
DTSTART;TZID=Europe/Madrid:20240323T173000
DTEND;TZID=Europe/Madrid:20240323T183000
DTSTAMP:20260423T082809
CREATED:20240201T133536Z
LAST-MODIFIED:20240222T075637Z
UID:10001495-1711215000-1711218600@inscripciones.ayto-alcaladehenares.es
SUMMARY:LISTA DE ESPERA - Excursión de media jornada al Museo del Ferrocarril - sábado 23 de marzo
DESCRIPTION:| Descripción \nDada la climatología adversa previsible para esta época del año\, proponemos desplazarnos en familia a un destino cultural de interior\, realizando una visita guiada al “Museo del Ferrocarril” de Madrid. \nSe trata de una visita de media jornada\, donde realizaremos un recorrido guiado por las instalaciones del Museo del Ferrocarril\, donde podremos conocer la historia del ferrocarril en España\, algunas de las máquinas de tren más famosas de cada época y cómo funcionaban los servicios ferroviarios hace 100 años. \nAl terminar la visita\, las familias dispondrán de un tiempo libre para visitar los alrededores del museo\, esta visita sin duda llamará la atención de toda la familia \nA cargo de Eom. \n| Duración  \nMedia jornada \n| Aforo \nMáximo 54 participantes \n			\n			\n				\n				\n				\n				\n				\n				\n				\n				\n				\n				| Cosas a tener en cuenta \nPara esta excursión solo es necesario apuntarse en el formulario. \nIMPORTANTE: Los niños deben ir acompañados de un adulto. \n  \n\nLa política de imágenes en el programa «Otra Forma de Jugar»\nLa política de Protección de Datos de Carácter Personal del Ayuntamiento de Alcalá de Henares\nLa política de privacidad del Ayuntamiento de Alcalá de Henares
URL:https://inscripciones.ayto-alcaladehenares.es/evento/lista-de-espera-excursion-de-media-jornada-al-museo-del-ferrocarril-sabado-23-de-marzo/
LOCATION:Madrid
CATEGORIES:otra forma de jugar 2024
ATTACH;FMTTYPE=image/jpeg:https://inscripciones.ayto-alcaladehenares.es/wp-content/uploads/2024/02/evento-excursion-museo-ferrocarril.jpg
END:VEVENT
BEGIN:VEVENT
DTSTART;TZID=Europe/Madrid:20240310T120000
DTEND;TZID=Europe/Madrid:20240310T130000
DTSTAMP:20260423T082809
CREATED:20240201T130703Z
LAST-MODIFIED:20240222T080756Z
UID:10001491-1710072000-1710075600@inscripciones.ayto-alcaladehenares.es
SUMMARY:LISTA DE ESPERA - Taller de juego: "A jugar con los robots" - domingo 10 de marzo- Junta de distrito II
DESCRIPTION:| Descripción \nNo parará la diversión mientras juegan con nuestros robots. Según el robot aprenderán a manejarlos mediante mandos de radio control o tablet. Realizarán un sinfín de juegos según el robot que vayan teniendo por turnos\, y para terminar todos juntos podrán jugar con nuestro robot estrella Meccanoid\, al cuál podrán abrazar\, chocar la mano o verle bailar\, hacer kung fu o yoga e incluso les contará chistes o historias con las que aprenderán cosas nuevas. Diversión robótica asegurada. \nA cargo de Oseisu eventos. \n| Duración  \n1 hora \n| Edades \n6 a 12 años \n| Aforo \nMáximo 20 participantes por turno \n			\n			\n				\n				\n				\n				\n				\n				\n				\n				\n				\n				| Cómo realizar la inscripción \nSi te has inscrito en la Lista de Espera no es necesario que completes y envíes la hoja complementaria de inscripción. En caso de que quede alguna plaza disponible\, alguien se dé de baja o se anule su plaza\, nos pondremos en contacto contigo. \nAl cumplimentar el formulario ha leído y está de acuerdo con: \n\nLa política de imágenes en el programa «Otra Forma de Jugar»\nLa política de Protección de Datos de Carácter Personal del Ayuntamiento de Alcalá de Henares\nLa política de privacidad del Ayuntamiento de Alcalá de Henares\n\n  \n| Contacto y dudas \nSi tienes alguna duda puedes contactarnos a través del correo actividadesinfancia@ayto-alcaladehenares.es o en el teléfono 91 888 33 00 ext. 3307. El horario de atención es de martes a jueves de 17:00h a 20:00h. \nMuchas gracias por vuestro tiempo e interés en participar en nuestros talleres.
URL:https://inscripciones.ayto-alcaladehenares.es/evento/lista-de-espera-taller-de-juego-a-jugar-con-los-robots-domingo-10-de-marzo-junta-de-distrito-iv/
LOCATION:Junta Municipal del Distrito II\, Av. Reyes Católicos\, 9\, Alcalá de Henares\, Madrid\, 28803\, España
CATEGORIES:otra forma de jugar 2024
ATTACH;FMTTYPE=image/jpeg:https://inscripciones.ayto-alcaladehenares.es/wp-content/uploads/2024/02/evento-taller-jugar-con-los-robots-300x136-1.jpg
END:VEVENT
BEGIN:VEVENT
DTSTART;TZID=Europe/Madrid:20240310T120000
DTEND;TZID=Europe/Madrid:20240310T130000
DTSTAMP:20260423T082809
CREATED:20240201T130544Z
LAST-MODIFIED:20240222T080817Z
UID:10001490-1710072000-1710075600@inscripciones.ayto-alcaladehenares.es
SUMMARY:Preinscripción - Taller de juego: "A jugar con los robots" - domingo 10 de marzo- Junta de distrito II
DESCRIPTION:| Descripción \nNo parará la diversión mientras juegan con nuestros robots. Según el robot aprenderán a manejarlos mediante mandos de radio control o tablet. Realizarán un sinfín de juegos según el robot que vayan teniendo por turnos\, y para terminar todos juntos podrán jugar con nuestro robot estrella Meccanoid\, al cuál podrán abrazar\, chocar la mano o verle bailar\, hacer kung fu o yoga e incluso les contará chistes o historias con las que aprenderán cosas nuevas. Diversión robótica asegurada. \nA cargo de Oseisu eventos. \n| Duración  \n1 hora \n| Edades \n6 a 12 años \n| Aforo \nMáximo 20 participantes por turno \n			\n				\n				\n				\n				\n				Si te has quedado sin plaza\, APÚNTATE EN LA LISTA DE ESPERA y ten paciencia. ¡¡Es muy posible que te avisemos!! \n			\n				Lista de Espera\n			\n			\n				\n				\n				\n				\n				\n				\n				\n				\n				\n				| Cómo realizar la inscripción \nIMPORTANTE: lea todos los pasos a seguir antes de hacer la pre-inscripción. No olvide enviar la ficha de inscripción firmada tras completar el formulario online. \n1. Completar el formulario de pre-inscripción (arriba). \n2. Si se ha enviado el formulario con éxito (tras recibir el email de confirmación)\, descargar la ficha de inscripción que encontrará en este enlace (haz clic aquí). \n3. Completar y enviar la ficha con las firmas de ambos padre\, madre o tutores legales escaneada o con una fotografía al correo: actividadesinfancia@ayto-alcaladehenares.es. \n* Solo podrá realizar la pre-inscripción de sus hijas o hijos. Tenga en cuenta que si la inscripción no está debidamente cumplimentada\, puede implicar la cancelación de la inscripción. \nAl cumplimentar el formulario ha leído y está de acuerdo con: \n\nLa política de imágenes en el programa «Otra Forma de Jugar»\nLa política de Protección de Datos de Carácter Personal del Ayuntamiento de Alcalá de Henares\nLa política de privacidad del Ayuntamiento de Alcalá de Henares\n\n  \n  \n			\n				\n				\n				\n				\n				Contacto para dudas (clic para ver)\n				Si tienes alguna duda puedes contactarnos a través del correo actividadesinfancia@ayto-alcaladehenares.es o en el teléfono 91 888 33 00 ext. 3307. El horario de atención es de martes a jueves de 17:00h a 20:00h.\n			\n				\n				\n				\n				\n				Instrucciones de cancelación si no puedes acudir al evento (clic para ver)\n				Si está inscrito y no puede acudir al evento\, rogamos cancele su reserva enviando un correo electrónico a actividadesinfancia@ayto-alcaladehenares.es\, con su nombre y el nombre del taller en el que se ha preinscrito\, la fecha\, ubicación y el código que se encuentra justo debajo del nombre del taller en su correo de confirmación\, parecido a este: «bcc3b62681». \nMuchas gracias por vuestro tiempo e interés en participar en nuestros talleres.
URL:https://inscripciones.ayto-alcaladehenares.es/evento/pre-inscripcion-taller-de-juego-a-jugar-con-los-robots-domingo-10-de-marzo-junta-de-distrito-ii/
LOCATION:Junta Municipal del Distrito II\, Av. Reyes Católicos\, 9\, Alcalá de Henares\, Madrid\, 28803\, España
CATEGORIES:otra forma de jugar 2024
ATTACH;FMTTYPE=image/jpeg:https://inscripciones.ayto-alcaladehenares.es/wp-content/uploads/2024/02/evento-taller-jugar-con-los-robots-300x136-1.jpg
END:VEVENT
BEGIN:VEVENT
DTSTART;TZID=Europe/Madrid:20240309T173000
DTEND;TZID=Europe/Madrid:20240309T183000
DTSTAMP:20260423T082809
CREATED:20240201T125223Z
LAST-MODIFIED:20240222T081028Z
UID:10001489-1710005400-1710009000@inscripciones.ayto-alcaladehenares.es
SUMMARY:LISTA DE ESPERA - Taller de juego: "A jugar con los robots" - sábado 9 de marzo- Junta de distrito IV
DESCRIPTION:| Descripción \nNo parará la diversión mientras juegan con nuestros robots. Según el robot aprenderán a manejarlos mediante mandos de radio control o tablet. Realizarán un sinfín de juegos según el robot que vayan teniendo por turnos\, y para terminar todos juntos podrán jugar con nuestro robot estrella Meccanoid\, al cuál podrán abrazar\, chocar la mano o verle bailar\, hacer kung fu o yoga e incluso les contará chistes o historias con las que aprenderán cosas nuevas. Diversión robótica asegurada. \nA cargo de Oseisu eventos. \n| Duración  \n1 hora \n| Edades \n6 a 12 años \n| Aforo \nMáximo 20 participantes por turno \n			\n			\n				\n				\n				\n				\n				\n				\n				\n				\n				\n				| Cómo realizar la inscripción \nSi te has inscrito en la Lista de Espera no es necesario que completes y envíes la hoja complementaria de inscripción. En caso de que quede alguna plaza disponible\, alguien se dé de baja o se anule su plaza\, nos pondremos en contacto contigo. \nAl cumplimentar el formulario ha leído y está de acuerdo con: \n\nLa política de imágenes en el programa «Otra Forma de Jugar»\nLa política de Protección de Datos de Carácter Personal del Ayuntamiento de Alcalá de Henares\nLa política de privacidad del Ayuntamiento de Alcalá de Henares\n\n  \n| Contacto y dudas \nSi tienes alguna duda puedes contactarnos a través del correo actividadesinfancia@ayto-alcaladehenares.es o en el teléfono 91 888 33 00 ext. 3307. El horario de atención es de martes a jueves de 17:00h a 20:00h. \nMuchas gracias por vuestro tiempo e interés en participar en nuestros talleres.
URL:https://inscripciones.ayto-alcaladehenares.es/evento/lista-de-espera-taller-de-juego-a-jugar-con-los-robots-sabado-9-de-marzo-junta-de-distrito-iv/
LOCATION:Junta Municipal del Distrito IV\, C/ de Octavio Paz\, 15\, Alcalá de Henares\, Madrid\, 28806\, España
CATEGORIES:otra forma de jugar 2024
ATTACH;FMTTYPE=image/jpeg:https://inscripciones.ayto-alcaladehenares.es/wp-content/uploads/2024/02/evento-taller-jugar-con-los-robots-300x136-1.jpg
ORGANIZER;CN="Concejal%C3%ADa de Familia%2C Juventud e Infancia":MAILTO:infancia@ayto-alcaladehenares.es
END:VEVENT
END:VCALENDAR