BEGIN:VCALENDAR
VERSION:2.0
PRODID:-//Servicio de Inscripciones Municipales - ECPv6.15.20//NONSGML v1.0//EN
CALSCALE:GREGORIAN
METHOD:PUBLISH
X-ORIGINAL-URL:https://inscripciones.ayto-alcaladehenares.es
X-WR-CALDESC:Eventos para Servicio de Inscripciones Municipales
REFRESH-INTERVAL;VALUE=DURATION:PT1H
X-Robots-Tag:noindex
X-PUBLISHED-TTL:PT1H
BEGIN:VTIMEZONE
TZID:Europe/Madrid
BEGIN:DAYLIGHT
TZOFFSETFROM:+0100
TZOFFSETTO:+0200
TZNAME:CEST
DTSTART:20240331T010000
END:DAYLIGHT
BEGIN:STANDARD
TZOFFSETFROM:+0200
TZOFFSETTO:+0100
TZNAME:CET
DTSTART:20241027T010000
END:STANDARD
BEGIN:DAYLIGHT
TZOFFSETFROM:+0100
TZOFFSETTO:+0200
TZNAME:CEST
DTSTART:20250330T010000
END:DAYLIGHT
BEGIN:STANDARD
TZOFFSETFROM:+0200
TZOFFSETTO:+0100
TZNAME:CET
DTSTART:20251026T010000
END:STANDARD
BEGIN:DAYLIGHT
TZOFFSETFROM:+0100
TZOFFSETTO:+0200
TZNAME:CEST
DTSTART:20260329T010000
END:DAYLIGHT
BEGIN:STANDARD
TZOFFSETFROM:+0200
TZOFFSETTO:+0100
TZNAME:CET
DTSTART:20261025T010000
END:STANDARD
END:VTIMEZONE
BEGIN:VEVENT
DTSTART;TZID=Europe/Madrid:20250517T173000
DTEND;TZID=Europe/Madrid:20250517T183000
DTSTAMP:20260419T145602
CREATED:20250313T091400Z
LAST-MODIFIED:20250326T091302Z
UID:10002034-1747503000-1747506600@inscripciones.ayto-alcaladehenares.es
SUMMARY:TALLER DE MUSICAL “ISLA PIRATA” - 17 de Mayo
DESCRIPTION:  \n\n\nMÁXIMO DOS MENORES  POR INSCRIPCIÓN ACOMPAÑADOS DE UN ADULTO\nLos menores accederán acompañados de solo un adulto por menor a la actividad\nJunta de distrito IV\, C/Octavio Paz nº15\nEDAD DE 3 A 5 AÑOS\nCompañía que lo realiza: CRECIENDO MI SOL \n  \nDESCRIPCIÓN: \n\nEstas sesiones de música  se estructuran mediante propuestas abiertas en las que una canción\, una audición o un recitado\, cuidadosamente seleccionados\, sirven de excusa para el juego.\nEntenderemos la música como un lenguaje y por ello ofreceremos un ambiente propicio para la interacción\, la creación y la improvisación.\nPara las propuestas utilizamos el cuerpo y la voz\, material no estructurado\, así como objetos sonoros e instrumentos de pequeña percusión.\nEn el taller nos acercaremos a la orilla para escuchar los sonidos del mar y ver a los peces\, pulpos y otros seres que pueblan el fondo submarino.\nDespués subiremos a bordo de un barquito de vela y navegaremos al ritmo de las olas en busca de Isla Pirata.\n\nUna vez en la Isla tomaremos el camino marcado por el mapa del tesoro para explorar todos juntos al compás de canciones pirata. ¿Conseguiremos encontrar el tesoro? \n\n 
URL:https://inscripciones.ayto-alcaladehenares.es/evento/taller-de-musical-isla-pirata-17-de-mayo/
LOCATION:Junta Municipal del Distrito IV\, C/ de Octavio Paz\, 15\, Alcalá de Henares\, Madrid\, 28806\, España
CATEGORIES:OFDJ,Taller-3a5
ATTACH;FMTTYPE=image/png:https://inscripciones.ayto-alcaladehenares.es/wp-content/uploads/2025/03/PIRATAS-IV.png
ORGANIZER;CN="Concejal%C3%ADa de Familia%2C Juventud e Infancia":MAILTO:infancia@ayto-alcaladehenares.es
END:VEVENT
BEGIN:VEVENT
DTSTART;TZID=Europe/Madrid:20250518T120000
DTEND;TZID=Europe/Madrid:20250518T130000
DTSTAMP:20260419T145602
CREATED:20250313T093629Z
LAST-MODIFIED:20250326T091307Z
UID:10002036-1747569600-1747573200@inscripciones.ayto-alcaladehenares.es
SUMMARY:TALLER DE MUSICAL “ISLA PIRATA” - 18 de Mayo
DESCRIPTION:  \n\n\nMÁXIMO DOS MENORES  POR INSCRIPCIÓN ACOMPAÑADOS DE UN ADULTO\nLos menores accederán acompañados de solo un adulto por menor a la actividad\nJunta de distrito II\, C/Reyes Católicos nº9\nEDAD DE 3 A 5 AÑOS\nCompañía que lo realiza: CRECIENDO MI SOL \n  \nDESCRIPCIÓN: \n\nEstas sesiones de música  se estructuran mediante propuestas abiertas en las que una canción\, una audición o un recitado\, cuidadosamente seleccionados\, sirven de excusa para el juego.\nEntenderemos la música como un lenguaje y por ello ofreceremos un ambiente propicio para la interacción\, la creación y la improvisación.\nPara las propuestas utilizamos el cuerpo y la voz\, material no estructurado\, así como objetos sonoros e instrumentos de pequeña percusión.\nEn el taller nos acercaremos a la orilla para escuchar los sonidos del mar y ver a los peces\, pulpos y otros seres que pueblan el fondo submarino.\nDespués subiremos a bordo de un barquito de vela y navegaremos al ritmo de las olas en busca de Isla Pirata.\n\nUna vez en la Isla tomaremos el camino marcado por el mapa del tesoro para explorar todos juntos al compás de canciones pirata. ¿Conseguiremos encontrar el tesoro? \n\n 
URL:https://inscripciones.ayto-alcaladehenares.es/evento/taller-de-musical-isla-pirata-18-de-mayo/
LOCATION:Junta Municipal del Distrito II\, Av. Reyes Católicos\, 9\, Alcalá de Henares\, Madrid\, 28803\, España
CATEGORIES:OFDJ,Taller-3a5
ATTACH;FMTTYPE=image/png:https://inscripciones.ayto-alcaladehenares.es/wp-content/uploads/2025/03/PIRATAS-II.png
ORGANIZER;CN="Concejal%C3%ADa de Familia%2C Juventud e Infancia":MAILTO:infancia@ayto-alcaladehenares.es
END:VEVENT
END:VCALENDAR