BEGIN:VCALENDAR
VERSION:2.0
PRODID:-//Servicio de Inscripciones Municipales - ECPv6.15.20//NONSGML v1.0//EN
CALSCALE:GREGORIAN
METHOD:PUBLISH
X-WR-CALNAME:Servicio de Inscripciones Municipales
X-ORIGINAL-URL:https://inscripciones.ayto-alcaladehenares.es
X-WR-CALDESC:Eventos para Servicio de Inscripciones Municipales
REFRESH-INTERVAL;VALUE=DURATION:PT1H
X-Robots-Tag:noindex
X-PUBLISHED-TTL:PT1H
BEGIN:VTIMEZONE
TZID:Europe/Madrid
BEGIN:DAYLIGHT
TZOFFSETFROM:+0100
TZOFFSETTO:+0200
TZNAME:CEST
DTSTART:20240331T010000
END:DAYLIGHT
BEGIN:STANDARD
TZOFFSETFROM:+0200
TZOFFSETTO:+0100
TZNAME:CET
DTSTART:20241027T010000
END:STANDARD
BEGIN:DAYLIGHT
TZOFFSETFROM:+0100
TZOFFSETTO:+0200
TZNAME:CEST
DTSTART:20250330T010000
END:DAYLIGHT
BEGIN:STANDARD
TZOFFSETFROM:+0200
TZOFFSETTO:+0100
TZNAME:CET
DTSTART:20251026T010000
END:STANDARD
BEGIN:DAYLIGHT
TZOFFSETFROM:+0100
TZOFFSETTO:+0200
TZNAME:CEST
DTSTART:20260329T010000
END:DAYLIGHT
BEGIN:STANDARD
TZOFFSETFROM:+0200
TZOFFSETTO:+0100
TZNAME:CET
DTSTART:20261025T010000
END:STANDARD
END:VTIMEZONE
BEGIN:VEVENT
DTSTART;TZID=Europe/Madrid:20250525T120000
DTEND;TZID=Europe/Madrid:20250525T130000
DTSTAMP:20260419T184031
CREATED:20250313T095808Z
LAST-MODIFIED:20250326T091139Z
UID:10002040-1748174400-1748178000@inscripciones.ayto-alcaladehenares.es
SUMMARY:TALLER DE YOGA PARA BEBÉS DE 3 A 36 MESES - 25 de Mayo
DESCRIPTION:  \n\n\nMÁXIMO 2 BEBÉS POR ADULTO POR INSCRIPCIÓN\nJunta de distrito II\, C/Reyes Católicos nº9\nBEBÉS DE 6 A 36 MESES \, ACOMPAÑADOS DE 1 ADULTO\nCompañía que lo realiza: ENJOY YOGA \n  \nDESCRIPCIÓN: \nEl yoga para bebés es una práctica que favorece el desarrollo físico\, emocional y mental de los más pequeños\, creando un vínculo especial entre padres e hijos. A través de movimientos suaves\, respiración y contacto\, el bebé experimenta sensaciones que le ayudan en su crecimiento y bienestar. \nBENEFICIOS: \n\nFavorece un mejor sueño y relajación.\nMejora la flexibilidad.\nAyuda con la coordinación motora.\nRefuerza el vinculo entre el bebé y sus  cuidadores.\nPromueve la seguridad y confianza del bebé.\nEstimula los sentidos.\n\n  \n\n 
URL:https://inscripciones.ayto-alcaladehenares.es/evento/taller-de-yoga-para-bebes-de-3-a-36-meses-25-de-mayo/
LOCATION:Junta Municipal del Distrito II\, Av. Reyes Católicos\, 9\, Alcalá de Henares\, Madrid\, 28803\, España
CATEGORIES:OFDJ,Taller-bebes
ATTACH;FMTTYPE=image/png:https://inscripciones.ayto-alcaladehenares.es/wp-content/uploads/2025/03/yoga-bebes-II-1.png
ORGANIZER;CN="Concejal%C3%ADa de Familia%2C Juventud e Infancia":MAILTO:infancia@ayto-alcaladehenares.es
END:VEVENT
BEGIN:VEVENT
DTSTART;TZID=Europe/Madrid:20250524T173000
DTEND;TZID=Europe/Madrid:20250524T183000
DTSTAMP:20260419T184031
CREATED:20250313T095207Z
LAST-MODIFIED:20250326T091144Z
UID:10002038-1748107800-1748111400@inscripciones.ayto-alcaladehenares.es
SUMMARY:TALLER DE YOGA PARA BEBÉS DE 3 A 36 MESES - 24 de Mayo
DESCRIPTION:  \n\n\nMÁXIMO 2 BEBÉS POR ADULTO POR INSCRIPCIÓN\nJunta de distrito IV\, C/Octavio Paz nº15\nBEBÉS DE 6 A 36 MESES \, ACOMPAÑADOS DE 1 ADULTO\nCompañía que lo realiza: ENJOY YOGA \n  \nDESCRIPCIÓN: \nEl yoga para bebés es una práctica que favorece el desarrollo físico\, emocional y mental de los más pequeños\, creando un vínculo especial entre padres e hijos. A través de movimientos suaves\, respiración y contacto\, el bebé experimenta sensaciones que le ayudan en su crecimiento y bienestar. \nBENEFICIOS: \n\nFavorece un mejor sueño y relajación.\nMejora la flexibilidad.\nAyuda con la coordinación motora.\nRefuerza el vinculo entre el bebé y sus  cuidadores.\nPromueve la seguridad y confianza del bebé.\nEstimula los sentidos.\n\n  \n\n 
URL:https://inscripciones.ayto-alcaladehenares.es/evento/taller-de-yoga-para-bebes-de-3-a-36-meses-24-de-mayo/
LOCATION:Junta Municipal del Distrito IV\, C/ de Octavio Paz\, 15\, Alcalá de Henares\, Madrid\, 28806\, España
CATEGORIES:OFDJ,Taller-bebes
ATTACH;FMTTYPE=image/png:https://inscripciones.ayto-alcaladehenares.es/wp-content/uploads/2025/03/yoga-bebes-IV.png
ORGANIZER;CN="Concejal%C3%ADa de Familia%2C Juventud e Infancia":MAILTO:infancia@ayto-alcaladehenares.es
END:VEVENT
END:VCALENDAR