BEGIN:VCALENDAR
VERSION:2.0
PRODID:-//Servicio de Inscripciones Municipales - ECPv6.15.20//NONSGML v1.0//EN
CALSCALE:GREGORIAN
METHOD:PUBLISH
X-ORIGINAL-URL:https://inscripciones.ayto-alcaladehenares.es
X-WR-CALDESC:Eventos para Servicio de Inscripciones Municipales
REFRESH-INTERVAL;VALUE=DURATION:PT1H
X-Robots-Tag:noindex
X-PUBLISHED-TTL:PT1H
BEGIN:VTIMEZONE
TZID:Europe/Madrid
BEGIN:DAYLIGHT
TZOFFSETFROM:+0100
TZOFFSETTO:+0200
TZNAME:CEST
DTSTART:20240331T010000
END:DAYLIGHT
BEGIN:STANDARD
TZOFFSETFROM:+0200
TZOFFSETTO:+0100
TZNAME:CET
DTSTART:20241027T010000
END:STANDARD
BEGIN:DAYLIGHT
TZOFFSETFROM:+0100
TZOFFSETTO:+0200
TZNAME:CEST
DTSTART:20250330T010000
END:DAYLIGHT
BEGIN:STANDARD
TZOFFSETFROM:+0200
TZOFFSETTO:+0100
TZNAME:CET
DTSTART:20251026T010000
END:STANDARD
BEGIN:DAYLIGHT
TZOFFSETFROM:+0100
TZOFFSETTO:+0200
TZNAME:CEST
DTSTART:20260329T010000
END:DAYLIGHT
BEGIN:STANDARD
TZOFFSETFROM:+0200
TZOFFSETTO:+0100
TZNAME:CET
DTSTART:20261025T010000
END:STANDARD
BEGIN:DAYLIGHT
TZOFFSETFROM:+0100
TZOFFSETTO:+0200
TZNAME:CEST
DTSTART:20270328T010000
END:DAYLIGHT
BEGIN:STANDARD
TZOFFSETFROM:+0200
TZOFFSETTO:+0100
TZNAME:CET
DTSTART:20271031T010000
END:STANDARD
END:VTIMEZONE
BEGIN:VEVENT
DTSTART;TZID=Europe/Madrid:20260102T113000
DTEND;TZID=Europe/Madrid:20260102T123000
DTSTAMP:20260424T123957
CREATED:20251119T093226Z
LAST-MODIFIED:20251210T071206Z
UID:10002194-1767353400-1767357000@inscripciones.ayto-alcaladehenares.es
SUMMARY:Taller: Juego Navideño - El Gran Torneo de Puntería Navideña.
DESCRIPTION:  \nFicha de inscripción \n  \n\nRango de Edad: 3 a 5 años. \nAforo: 15 participantes \nMÁXIMO DOS NIÑOS POR INSCRIPCIÓN \nLugar: CENTRO FIA \, C/Paula Montal S/N \nCompañía que lo realiza: EOM \nDescripción: \nEn este divertido taller\, los niños y las niñas ponen a prueba su puntería para conseguir bolas de Navidad y decorar entre todos un gran árbol navideño. \nEl juego se divide en dos partes: \nParte 1: ¡A Encestar! \nSe colocan varios vasos de colores a diferentes niveles de dificultad. Cada participante lanza una pelota de ping-pong e intenta acertar: \nVaso Verde (fácil): 1 punto → 1 bola verde \nVaso Rojo (medio): 2 puntos → 2 bolas rojas \nVaso Dorado (difícil): 3 puntos → 3 bolas doradas \nCada tiro es una oportunidad para ganar bolas y sumar magia navideña. \nParte 2: ¡A Decorar el Árbol! \nCon las bolas ganadas\, los niños y las niñas decorarán juntos un gran árbol de Navidad. \nCuantas más bolas consigan… ¡más bonito quedará el árbol! \nEl objetivo es colaborar\, jugar y llenar el árbol de colores y alegría. 🎄✨
URL:https://inscripciones.ayto-alcaladehenares.es/evento/taller-juego-navideno-el-gran-torneo-de-punteria-navidena-fia/
LOCATION:El Centro Fia\, C/Paula Montal S/N\, Alcalá de Henares\, Madrid\, 28805\, España
CATEGORIES:Talleres Casita de la Navidad - Distrito V Centro FIA
ATTACH;FMTTYPE=image/png:https://inscripciones.ayto-alcaladehenares.es/wp-content/uploads/2025/11/taller-punteria.png
ORGANIZER;CN="Concejal%C3%ADa de Familia%2C Juventud e Infancia":MAILTO:infancia@ayto-alcaladehenares.es
END:VEVENT
BEGIN:VEVENT
DTSTART;TZID=Europe/Madrid:20251230T113000
DTEND;TZID=Europe/Madrid:20251230T123000
DTSTAMP:20260424T123957
CREATED:20251119T091006Z
LAST-MODIFIED:20251210T071123Z
UID:10002193-1767094200-1767097800@inscripciones.ayto-alcaladehenares.es
SUMMARY:Taller de Manualidad: Bola-Brillo ¡Mi adorno para el Árbol!
DESCRIPTION:  \nFicha de inscripción \n  \n\nRango de Edad: 3 a 5 años. \nAforo: 15 participantes \nMÁXIMO DOS NIÑOS POR INSCRIPCIÓN \nLugar: CENTRO FIA \, C/Paula Montal S/N \nCompañía que lo realiza: EOM \nDescripción: \nEn este taller creativo\, niños y niñas crearán un precioso adorno navideño plano con la técnica de la «ventana mágica». \nPrimero\, realizarán la ventana Mágica: \nDecorarán el interior transparente con purpurina\, papeles de colores y perlitas\, creando un efecto luminoso. \nA continuación\, el marco Festivo: \nDecorarán el contorno de la cartulina con pegatinas\, goma eva o pequeños trozos de papel\, dando un marco vistoso y completo a su obra. \nAl finalizar\, cada participante se llevará a casa su bola de Navidad «Ventana Mágica»\, una decoración luminosa hecha con sus propias manos.
URL:https://inscripciones.ayto-alcaladehenares.es/evento/taller-de-manualidad-bola-brillo-mi-adorno-para-el-arbol-fia/
LOCATION:El Centro Fia\, C/Paula Montal S/N\, Alcalá de Henares\, Madrid\, 28805\, España
CATEGORIES:Talleres Casita de la Navidad - Distrito V Centro FIA
ATTACH;FMTTYPE=image/png:https://inscripciones.ayto-alcaladehenares.es/wp-content/uploads/2025/11/bola-brillo.png
ORGANIZER;CN="Concejal%C3%ADa de Familia%2C Juventud e Infancia":MAILTO:infancia@ayto-alcaladehenares.es
END:VEVENT
BEGIN:VEVENT
DTSTART;TZID=Europe/Madrid:20251229T113000
DTEND;TZID=Europe/Madrid:20251229T123000
DTSTAMP:20260424T123957
CREATED:20251119T101600Z
LAST-MODIFIED:20251210T071118Z
UID:10002203-1767007800-1767011400@inscripciones.ayto-alcaladehenares.es
SUMMARY:Taller de Cocina Fría: “Aperitivos navideños”
DESCRIPTION:  \nFicha de inscripción \n  \n\nRango de Edad: 3 a 5 años. \nAforo: 15 participantes \nMÁXIMO DOS NIÑOS POR INSCRIPCIÓN \nLugar: CENTRO FIA \, C/Paula Montal S/N \nCompañía que lo realiza: EOM \nDescripción: \nEn este taller crearemos aperitivos saludables y divertidos con temática navideña (usando frutas\, verduras y otros ingredientes nutritivos). \nLos pequeños fomentan hábitos alimenticios saludables y la creatividad culinaria. \nAl finalizar\, cada niño se lleva sus propias creaciones nutritivas y festivas para compartir. \n  \n 
URL:https://inscripciones.ayto-alcaladehenares.es/evento/taller-de-cocina-fria-aperitivos-navidenos-fia/
LOCATION:El Centro Fia\, C/Paula Montal S/N\, Alcalá de Henares\, Madrid\, 28805\, España
CATEGORIES:Talleres Casita de la Navidad - Distrito V Centro FIA
ATTACH;FMTTYPE=image/png:https://inscripciones.ayto-alcaladehenares.es/wp-content/uploads/2025/11/aperitivos-navidenos.png
ORGANIZER;CN="Concejal%C3%ADa de Familia%2C Juventud e Infancia":MAILTO:infancia@ayto-alcaladehenares.es
END:VEVENT
BEGIN:VEVENT
DTSTART;TZID=Europe/Madrid:20251226T113000
DTEND;TZID=Europe/Madrid:20251226T123000
DTSTAMP:20260424T123957
CREATED:20251119T085147Z
LAST-MODIFIED:20251210T071000Z
UID:10002190-1766748600-1766752200@inscripciones.ayto-alcaladehenares.es
SUMMARY:Taller Creativo: Mi Reno Navideño ¡Y para el Árbol!
DESCRIPTION:  \nFicha de inscripción \n  \n\nRango de Edad: 3 a 5 años. \nAforo: 15 participantes \nMÁXIMO DOS NIÑOS POR INSCRIPCIÓN \nLugar: CENTRO FIA \, C/Paula Montal S/N \nCompañía que lo realiza: EOM \nDescripción: \nEn este taller creativo y sensorial\, los pequeños artistas darán vida a su propio Reno Navideño que servirá como decoración especial para su árbol. La actividad principal consiste en transformar un rollo de cartón en un reno. \nMediante el uso de pintura\, pegamento\, y texturas diversas (pompones\, purpurina\, etc)\, los niños y las niñas\, fomentarán su expresión creativa y practicarán la motricidad fina necesaria para manipular estos materiales. La inserción y modelado de los limpiapipas flexibles para formar los cuernos promueve la imaginación tridimensional y la coordinación bimanual. \nAl concluir la sesión\, cada niño y cada niña\, se llevará a casa su Reno Personalizado\, una pieza hecha totalmente por ellos y ellas\, lista para colgarse en el árbol de Navidad y convertirse en un preciado recuerdo familiar de la Navidad.
URL:https://inscripciones.ayto-alcaladehenares.es/evento/taller-creativo-mi-reno-navideno-y-para-el-arbol-fia/
LOCATION:El Centro Fia\, C/Paula Montal S/N\, Alcalá de Henares\, Madrid\, 28805\, España
CATEGORIES:Talleres Casita de la Navidad - Distrito V Centro FIA
ATTACH;FMTTYPE=image/png:https://inscripciones.ayto-alcaladehenares.es/wp-content/uploads/2025/11/RENO-NAVIDENO.png
END:VEVENT
BEGIN:VEVENT
DTSTART;TZID=Europe/Madrid:20251223T113000
DTEND;TZID=Europe/Madrid:20251223T123000
DTSTAMP:20260424T123957
CREATED:20251119T093328Z
LAST-MODIFIED:20251210T070833Z
UID:10002192-1766489400-1766493000@inscripciones.ayto-alcaladehenares.es
SUMMARY:Taller de Psicomotricidad Fina “Las Manitas del Polo Norte”
DESCRIPTION:  \nFicha de inscripción \n  \n\nRango de Edad: 3 a 5 años. \nAforo: 15 participantes \nMÁXIMO DOS NIÑOS POR INSCRIPCIÓN \nLugar: CENTRO FIA \, C/Paula Montal S/N \nCompañía que lo realiza: EOM \nDescripción: \nEn este taller navideño\, los niños y las niñas desarrollarán su psicomotricidad fina creando un bonito copo de nieve con materiales sencillos.\nSobre una base de cartón con pequeños agujeros que dibujan la forma de un copito. Esta actividad favorece la coordinación ojo–mano\, la precisión del movimiento\, la atención y la paciencia\, mientras disfrutan de un ambiente relajado y lleno de espíritu navideño. \nAcompañados por villancicos\, los niños podrán ver cómo su copito va tomando forma\, decorándolo al final con un poco de purpurina\, pegatinas o algodón\, dándole su toque mágico y personal. \nAl finalizar\, cada participante se llevará su copito de nieve mágico\, símbolo de su esfuerzo\, creatividad y alegría. \n 
URL:https://inscripciones.ayto-alcaladehenares.es/evento/taller-de-psicomotricidad-fina-las-manitas-del-polo-norte-fia/
LOCATION:El Centro Fia\, C/Paula Montal S/N\, Alcalá de Henares\, Madrid\, 28805\, España
CATEGORIES:Talleres Casita de la Navidad - Distrito V Centro FIA
ATTACH;FMTTYPE=image/png:https://inscripciones.ayto-alcaladehenares.es/wp-content/uploads/2025/11/el-polo-norte.png
ORGANIZER;CN="Concejal%C3%ADa de Familia%2C Juventud e Infancia":MAILTO:infancia@ayto-alcaladehenares.es
END:VEVENT
BEGIN:VEVENT
DTSTART;TZID=Europe/Madrid:20251222T113000
DTEND;TZID=Europe/Madrid:20251222T123000
DTSTAMP:20260424T123957
CREATED:20251119T073211Z
LAST-MODIFIED:20251210T070830Z
UID:10002189-1766403000-1766406600@inscripciones.ayto-alcaladehenares.es
SUMMARY:Taller de Juego: El Juego de las Tarjetas Navideñas
DESCRIPTION:  \nFicha de inscripción \n  \n\nRango de Edad: 3 a 5 años. \nAforo: 15 participantes \nMÁXIMO DOS NIÑOS POR INSCRIPCIÓN \nLugar: CENTRO FIA \, C/Paula Montal S/N \nCompañía que lo realiza: EOM \nDescripción: \n¡Ha llegado la Navidad y con ella nuestras Tarjetas Mágicas! En este divertido juego\, los niños y niñas disfrutarán descubriendo y reconociendo imágenes típicas de la Navidad en sus tarjetas: árboles\, regalos\, campanas\, estrellas\, renos\, muñecos de nieve\, etc. \nEste juego fomenta la atención\, la observación\, el vocabulario navideño y la participación en grupo\, todo en un ambiente lleno de espíritu y diversión navideña.
URL:https://inscripciones.ayto-alcaladehenares.es/evento/taller-de-juego-el-juego-de-las-tarjetas-navidenas/
LOCATION:El Centro Fia\, C/Paula Montal S/N\, Alcalá de Henares\, Madrid\, 28805\, España
CATEGORIES:Talleres Casita de la Navidad - Distrito V Centro FIA
ATTACH;FMTTYPE=image/png:https://inscripciones.ayto-alcaladehenares.es/wp-content/uploads/2025/11/tarjetas-de-navidad.png
ORGANIZER;CN="Concejal%C3%ADa de Familia%2C Juventud e Infancia":MAILTO:infancia@ayto-alcaladehenares.es
END:VEVENT
END:VCALENDAR