BEGIN:VCALENDAR
VERSION:2.0
PRODID:-//Servicio de Inscripciones Municipales - ECPv6.15.20//NONSGML v1.0//EN
CALSCALE:GREGORIAN
METHOD:PUBLISH
X-ORIGINAL-URL:https://inscripciones.ayto-alcaladehenares.es
X-WR-CALDESC:Eventos para Servicio de Inscripciones Municipales
REFRESH-INTERVAL;VALUE=DURATION:PT1H
X-Robots-Tag:noindex
X-PUBLISHED-TTL:PT1H
BEGIN:VTIMEZONE
TZID:Europe/Madrid
BEGIN:DAYLIGHT
TZOFFSETFROM:+0100
TZOFFSETTO:+0200
TZNAME:CEST
DTSTART:20240331T010000
END:DAYLIGHT
BEGIN:STANDARD
TZOFFSETFROM:+0200
TZOFFSETTO:+0100
TZNAME:CET
DTSTART:20241027T010000
END:STANDARD
BEGIN:DAYLIGHT
TZOFFSETFROM:+0100
TZOFFSETTO:+0200
TZNAME:CEST
DTSTART:20250330T010000
END:DAYLIGHT
BEGIN:STANDARD
TZOFFSETFROM:+0200
TZOFFSETTO:+0100
TZNAME:CET
DTSTART:20251026T010000
END:STANDARD
BEGIN:DAYLIGHT
TZOFFSETFROM:+0100
TZOFFSETTO:+0200
TZNAME:CEST
DTSTART:20260329T010000
END:DAYLIGHT
BEGIN:STANDARD
TZOFFSETFROM:+0200
TZOFFSETTO:+0100
TZNAME:CET
DTSTART:20261025T010000
END:STANDARD
END:VTIMEZONE
BEGIN:VEVENT
DTSTART;TZID=Europe/Madrid:20251122T173000
DTEND;TZID=Europe/Madrid:20251122T183000
DTSTAMP:20260425T162338
CREATED:20250922T080054Z
LAST-MODIFIED:20250918T064230Z
UID:10002180-1763832600-1763836200@inscripciones.ayto-alcaladehenares.es
SUMMARY:TEATRO INFANTIL  “DOS NIÑAS MUY VALIENTES”
DESCRIPTION:  \n\n  \nTipo de evento: ESPECTÁCULO \nCompañía que lo realiza: “TREMOLA TEATRO” \nRango de edad: TODAS LAS EDADES \, RECOMENDADO A PARTIR DE 3 AÑOS \nLUGAR: Junta de distrito IV\, C/Octavio Paz nº15 \nENTRADAS : SE ENTREGARÁN EN LA PUERTA DE ACCESO\, 30 MINUTOS ANTES DE CADA ESPECTÁCULO\, LOS NIÑOS Y NIÑAS ASISTIRÁN SIEMPRE ACOMPAÑADOS DE AL MENOS UN ADULTO \nDescripción: \nDivertida historia de dos niñas\, que en una fiesta de pijamas\, descubren un libro secreto lleno de historias fascinantes con niñas como protagonistas \n 
URL:https://inscripciones.ayto-alcaladehenares.es/evento/teatro-infantil-dos-ninas-muy-valientes/
LOCATION:Junta Municipal del Distrito IV\, C/ de Octavio Paz\, 15\, Alcalá de Henares\, Madrid\, 28806\, España
CATEGORIES:Distrito IV espectáculos 2025 OFJ
ATTACH;FMTTYPE=image/png:https://inscripciones.ayto-alcaladehenares.es/wp-content/uploads/2025/09/DOS-NINAS-MUY-VALIENTES.png
ORGANIZER;CN="Concejal%C3%ADa de Familia%2C Juventud e Infancia":MAILTO:infancia@ayto-alcaladehenares.es
END:VEVENT
BEGIN:VEVENT
DTSTART;TZID=Europe/Madrid:20251123T120000
DTEND;TZID=Europe/Madrid:20251123T133000
DTSTAMP:20260425T162338
CREATED:20250922T080021Z
LAST-MODIFIED:20250918T064625Z
UID:10002181-1763899200-1763904600@inscripciones.ayto-alcaladehenares.es
SUMMARY:TEATRO INFANTIL  “DOS NIÑAS MUY VALIENTES”
DESCRIPTION:  \n\n  \nTipo de evento: ESPECTÁCULO \nCompañía que lo realiza: “TREMOLA TEATRO” \nRango de edad: TODAS LAS EDADES \, RECOMENDADO A PARTIR DE 3 AÑOS \nLUGAR: Junta de distrito II\, C/Reyes Católicos nº9 \nENTRADAS : SE ENTREGARÁN EN LA PUERTA DE ACCESO\, 30 MINUTOS ANTES DE CADA ESPECTÁCULO\, LOS NIÑOS Y NIÑAS ASISTIRÁN SIEMPRE ACOMPAÑADOS DE AL MENOS UN ADULTO \nDescripción: \nDivertida historia de dos niñas\, que en una fiesta de pijamas\, descubren un libro secreto lleno de historias fascinantes con niñas como protagonistas \n 
URL:https://inscripciones.ayto-alcaladehenares.es/evento/teatro-infantil-dos-ninas-muy-valientes-2/
LOCATION:Junta Municipal del Distrito IV\, C/ de Octavio Paz\, 15\, Alcalá de Henares\, Madrid\, 28806\, España
CATEGORIES:Distrito II espectáculos 2025 OFJ
ATTACH;FMTTYPE=image/png:https://inscripciones.ayto-alcaladehenares.es/wp-content/uploads/2025/09/DOS-NINAS-MUY-VALIENTES.png
ORGANIZER;CN="Concejal%C3%ADa de Familia%2C Juventud e Infancia":MAILTO:infancia@ayto-alcaladehenares.es
END:VEVENT
END:VCALENDAR