BEGIN:VCALENDAR
VERSION:2.0
PRODID:-//Servicio de Inscripciones Municipales - ECPv6.15.20//NONSGML v1.0//EN
CALSCALE:GREGORIAN
METHOD:PUBLISH
X-ORIGINAL-URL:https://inscripciones.ayto-alcaladehenares.es
X-WR-CALDESC:Eventos para Servicio de Inscripciones Municipales
REFRESH-INTERVAL;VALUE=DURATION:PT1H
X-Robots-Tag:noindex
X-PUBLISHED-TTL:PT1H
BEGIN:VTIMEZONE
TZID:Europe/Madrid
BEGIN:DAYLIGHT
TZOFFSETFROM:+0100
TZOFFSETTO:+0200
TZNAME:CEST
DTSTART:20250330T010000
END:DAYLIGHT
BEGIN:STANDARD
TZOFFSETFROM:+0200
TZOFFSETTO:+0100
TZNAME:CET
DTSTART:20251026T010000
END:STANDARD
BEGIN:DAYLIGHT
TZOFFSETFROM:+0100
TZOFFSETTO:+0200
TZNAME:CEST
DTSTART:20260329T010000
END:DAYLIGHT
BEGIN:STANDARD
TZOFFSETFROM:+0200
TZOFFSETTO:+0100
TZNAME:CET
DTSTART:20261025T010000
END:STANDARD
BEGIN:DAYLIGHT
TZOFFSETFROM:+0100
TZOFFSETTO:+0200
TZNAME:CEST
DTSTART:20270328T010000
END:DAYLIGHT
BEGIN:STANDARD
TZOFFSETFROM:+0200
TZOFFSETTO:+0100
TZNAME:CET
DTSTART:20271031T010000
END:STANDARD
END:VTIMEZONE
BEGIN:VEVENT
DTSTART;TZID=Europe/Madrid:20260325T101500
DTEND;TZID=Europe/Madrid:20260325T143000
DTSTAMP:20260424T065735
CREATED:20260325T091659Z
LAST-MODIFIED:20260407T104556Z
UID:10002350-1774433700-1774449000@inscripciones.ayto-alcaladehenares.es
SUMMARY:Lista de espera - Excursión - Fauna y acción
DESCRIPTION:Tipo de Evento: EXCURSIÓN DE  MEDIA JORNADA \nEdad Indicada: EXCURSIÓN FAMILIAR PARA TODAS LAS EDADES \nSalida desde: Las Darsenas del Recinto Ferial\, Junto al Campo de Fútbol \nHorario: DE 10:15 A 14:30H APROX \nEl horario de la actividad en las instalaciones: DE 11 A 14 HORAS. \nA cargo de: EOM & FAUNA Y ACCIÓN \nSoló podrán apuntarse en una misma inscripción los miembros de una misma unidad familiar\, máximo 4 menores y dos adultos por inscripción. \nSALIDA DESDE LAS DARSENAS DEL RECINTO FERIAL\, JUNTO AL CAMPO DE FUTBOL \nDescripción: \nDebido al gran éxito que tuvimos en la anterior edición para esta excursión\, que hizo que decenas de personas se quedarán en lista de espera\, ¡¡hemos decidido volver a lanzar está actividad para este nuevo programa!!  \nEso sí\, ¡solo podrás apuntarte si no viniste a la anterior excusión a Fauna y acción! En caso de que te apuntes y hayas venido a la anterior excursión\, tu reserva no será aceptada y se cederá a la siguiente persona que este en lista de espera. \nEn la tierra salvaje de FAUKANA hay animales misteriosos\, aves fascinantes que despliegan sus alas\, mamíferos que muestran su agilidad y asombran con su poder en una exhibición que quita el aliento. \nFAUNA EN ACCIÓN\nVivir una experiencia FAUKANA es mucho más que una visita a un centro de animales salvajes. Es una aventura educativa\, inmersiva y llena de emociones\, donde podrás encontrarte cara a cara con animales salvajes y de granja\, siempre en un entorno seguro y guiado por expertos.\nEs un día salvaje y diferente para aprender\, superar retos y vivir la naturaleza en primera persona. \nEXPERIENCIAS CON ACCIÓN\nLas Experiencias FAUKANA convierten la naturaleza en un terreno de juego y descubrimiento. Te proponemos un día inolvidable donde te convertirás en explorador por un día\, aprendiendo y descubriendo animales increíbles y dejando que el asombro te guíe.\nPrepárate para hacer un recorrido lleno de sorpresas\, contacto real con los animales y momentos que no olvidarás. \n  \n 
URL:https://inscripciones.ayto-alcaladehenares.es/evento/lista-de-espera-excursion-fauna-y-accion/
LOCATION:Salida desde las darsenas del recinto ferial\, junto al campo de futbol\, Campo de Fútbol Recinto Ferial\, P.º de Aguadores\, 7\, 28804 Alcalá de Henares\, Madrid\, Alcalá de Henares\, Madrid\, 28801\, España
ATTACH;FMTTYPE=image/png:https://inscripciones.ayto-alcaladehenares.es/wp-content/uploads/2026/01/excursion-fauna-y-accion-1.png
ORGANIZER;CN="Concejal%C3%ADa de Familia%2C Juventud e Infancia":MAILTO:infancia@ayto-alcaladehenares.es
END:VEVENT
BEGIN:VEVENT
DTSTART;TZID=Europe/Madrid:20260328T173000
DTEND;TZID=Europe/Madrid:20260328T181000
DTSTAMP:20260424T065735
CREATED:20260205T090034Z
LAST-MODIFIED:20260206T112013Z
UID:10002316-1774719000-1774721400@inscripciones.ayto-alcaladehenares.es
SUMMARY:Lista de Espera - Cuentaller para bebés - ¡Cuentos de Primavera!
DESCRIPTION:Tipo de Evento: CUENTALLER PARA BEBÉS \nEdad Indicada: BEBÉS DE 6 A 36 MESES\, ACOMPAÑADOS DE 1 ADULTO \nLugar: JUNTA MUNICIPAL DE DISTRITO IV – C/Octavio Paz nº15 \nA cargo de: ENCANTACUENTOS \nSolo podrán apuntarse un bebé con un adulto por inscripción. \nDescripción: \nLa primavera ya esta aquí y que mejor forma de cerrar esta edición de Otra Forma de Jugar que ¡celebrando su llegada! \nLa celebraremos a ritmo de cuento\, y con cada cuento haremos un pequeño avance con mama o papa para hacer nuestra manualidad \n 
URL:https://inscripciones.ayto-alcaladehenares.es/evento/lista-de-espera-cuentaller-para-bebes-cuentos-de-primavera/
LOCATION:Junta de Distrito IV\, C/Octavio Paz\, 15\, Alcalá de Henares\, Madrid\, 28801\, España
CATEGORIES:Talleres - Distrito IV - Lista de Espera
ATTACH;FMTTYPE=image/png:https://inscripciones.ayto-alcaladehenares.es/wp-content/uploads/2026/01/cuentos-de-primavera.png
ORGANIZER;CN="Concejal%C3%ADa de Familia%2C Juventud e Infancia":MAILTO:infancia@ayto-alcaladehenares.es
END:VEVENT
BEGIN:VEVENT
DTSTART;TZID=Europe/Madrid:20260328T173000
DTEND;TZID=Europe/Madrid:20260328T181000
DTSTAMP:20260424T065735
CREATED:20260205T090058Z
LAST-MODIFIED:20260218T060509Z
UID:10002314-1774719000-1774721400@inscripciones.ayto-alcaladehenares.es
SUMMARY:Cuentaller para bebés - ¡Cuentos de Primavera!
DESCRIPTION:Tipo de Evento: CUENTALLER PARA BEBÉS \nEdad Indicada: BEBÉS DE 6 A 36 MESES\, ACOMPAÑADOS DE 1 ADULTO \nLugar: JUNTA MUNICIPAL DE DISTRITO IV – C/Octavio Paz nº15 \nA cargo de: ENCANTACUENTOS \nSolo podrán apuntarse un bebé con un adulto por inscripción. \nDescripción: \nLa primavera ya esta aquí y que mejor forma de cerrar esta edición de Otra Forma de Jugar que ¡celebrando su llegada! \nLa celebraremos a ritmo de cuento\, y con cada cuento haremos un pequeño avance con mama o papa para hacer nuestra manualidad \n 
URL:https://inscripciones.ayto-alcaladehenares.es/evento/cuentaller-para-bebes-cuentos-de-primavera/
LOCATION:Junta de Distrito IV\, C/Octavio Paz\, 15\, Alcalá de Henares\, Madrid\, 28801\, España
CATEGORIES:Talleres - Distrito IV - Inscripción
ATTACH;FMTTYPE=image/png:https://inscripciones.ayto-alcaladehenares.es/wp-content/uploads/2026/01/cuentos-de-primavera.png
ORGANIZER;CN="Concejal%C3%ADa de Familia%2C Juventud e Infancia":MAILTO:infancia@ayto-alcaladehenares.es
END:VEVENT
BEGIN:VEVENT
DTSTART;TZID=Europe/Madrid:20260329T103000
DTEND;TZID=Europe/Madrid:20260329T130000
DTSTAMP:20260424T065735
CREATED:20250908T070037Z
LAST-MODIFIED:20260126T074706Z
UID:10002011-1774780200-1774789200@inscripciones.ayto-alcaladehenares.es
SUMMARY:[Lista de espera] Ruta Corredor ecofluvial del río Henares - 29 de marzo
DESCRIPTION:  \nLISTA DE ESPERA  \nEVENTO PARA TODOS LOS PÚBLICOS \nDURACIÓN: 2H30 \nDIFICULTAD: BAJA \nLa vega del río Henares es una zona privilegiada desde el punto de vista ambiental. Se llevará a cabo una ruta guiada por este emblemático espacio\, seña de identidad de la ciudad y protegido por su valor ecológico dentro de la Zona de Especial Conservación de las Cuencas de los ríos Jarama y Henares en la red Natura 2000.
URL:https://inscripciones.ayto-alcaladehenares.es/evento/lista-de-espera-ruta-corredor-ecofluvial-del-rio-henares-29-de-marzo/
LOCATION:Casa de la Juventud\, Plaza de la Juventud\, s/n\, Alcalá de Henares\, Madrid\, 28804\, España
CATEGORIES:Listas de espera Rutas ambientales 2024-2025
ATTACH;FMTTYPE=image/png:https://inscripciones.ayto-alcaladehenares.es/wp-content/uploads/2021/03/flora.png
ORGANIZER;CN="Concejal%C3%ADa de Medio Ambiente":MAILTO:cmedioambiente@ayto-alcaladehenares.es
END:VEVENT
BEGIN:VEVENT
DTSTART;TZID=Europe/Madrid:20260329T103000
DTEND;TZID=Europe/Madrid:20260329T130000
DTSTAMP:20260424T065735
CREATED:20250908T070054Z
LAST-MODIFIED:20260126T074651Z
UID:10002012-1774780200-1774789200@inscripciones.ayto-alcaladehenares.es
SUMMARY:Ruta Corredor ecofluvial del río Henares - 29 de marzo
DESCRIPTION:  \nDURACIÓN: 2H30 \nDIFICULTAD: BAJA \nLa vega del río Henares es una zona privilegiada desde el punto de vista ambiental. Se llevará a cabo una ruta guiada por este emblemático espacio\, seña de identidad de la ciudad y protegido por su valor ecológico dentro de la Zona de Especial Conservación de las Cuencas de los ríos Jarama y Henares en la red Natura 2000. \n\nLista de Espera
URL:https://inscripciones.ayto-alcaladehenares.es/evento/ruta-corredor-ecofluvial-del-rio-henares-29-de-marzo/
LOCATION:Casa de la Juventud\, Plaza de la Juventud\, s/n\, Alcalá de Henares\, Madrid\, 28804\, España
CATEGORIES:Rutas Ambientales,Rutas Ambientales 2025-2026
ATTACH;FMTTYPE=image/png:https://inscripciones.ayto-alcaladehenares.es/wp-content/uploads/2021/03/flora.png
ORGANIZER;CN="Concejal%C3%ADa de Medio Ambiente":MAILTO:cmedioambiente@ayto-alcaladehenares.es
END:VEVENT
BEGIN:VEVENT
DTSTART;TZID=Europe/Madrid:20260329T120000
DTEND;TZID=Europe/Madrid:20260329T124000
DTSTAMP:20260424T065735
CREATED:20260205T090032Z
LAST-MODIFIED:20260218T062621Z
UID:10002317-1774785600-1774788000@inscripciones.ayto-alcaladehenares.es
SUMMARY:Cuentaller para bebés - ¡Cuentos de Primavera!
DESCRIPTION:Tipo de Evento: CUENTALLER PARA BEBÉS \nEdad Recomendada: BEBÉS DE 6 A 36 MESES\, ACOMPAÑADOS DE 1 ADULTO \nLugar: JUNTA MUNICIPAL DE DISTRITO II – Av. Reyes Católicos\, 9 \nA cargo de: ENCANTACUENTOS \nSolo podrán apuntarse un bebé con un adulto por inscripción. \nDescripción: \nLa primavera ya esta aquí y que mejor forma de cerrar esta edición de Otra Forma de Jugar que ¡celebrando su llegada! \nLa celebraremos a ritmo de cuento\, y con cada cuento haremos un pequeño avance con mama o papa para hacer nuestra manualidad \n 
URL:https://inscripciones.ayto-alcaladehenares.es/evento/cuentaller-para-bebes-cuentos-de-primavera-jmdii/
LOCATION:Junta Municipal del Distrito II\, Av. Reyes Católicos\, 9\, Alcalá de Henares\, Madrid\, 28803\, España
CATEGORIES:Talleres - Distrito II - Inscripción
ATTACH;FMTTYPE=image/png:https://inscripciones.ayto-alcaladehenares.es/wp-content/uploads/2026/01/cuentos-de-primavera.png
ORGANIZER;CN="Concejal%C3%ADa de Familia%2C Juventud e Infancia":MAILTO:infancia@ayto-alcaladehenares.es
END:VEVENT
BEGIN:VEVENT
DTSTART;TZID=Europe/Madrid:20260329T120000
DTEND;TZID=Europe/Madrid:20260329T124000
DTSTAMP:20260424T065735
CREATED:20260205T090053Z
LAST-MODIFIED:20260206T111951Z
UID:10002318-1774785600-1774788000@inscripciones.ayto-alcaladehenares.es
SUMMARY:Lista de Espera - Cuentaller para bebés - ¡Cuentos de Primavera!
DESCRIPTION:Tipo de Evento: CUENTALLER PARA BEBÉS \nEdad Indicada: BEBÉS DE 6 A 36 MESES\, ACOMPAÑADOS DE 1 ADULTO \nLugar: JUNTA MUNICIPAL DE DISTRITO II – Av. Reyes Católicos\, 9 \nA cargo de: ENCANTACUENTOS \nSolo podrán apuntarse un bebé con un adulto por inscripción. \nDescripción: \nLa primavera ya esta aquí y que mejor forma de cerrar esta edición de Otra Forma de Jugar que ¡celebrando su llegada! \nLa celebraremos a ritmo de cuento\, y con cada cuento haremos un pequeño avance con mama o papa para hacer nuestra manualidad \n 
URL:https://inscripciones.ayto-alcaladehenares.es/evento/lista-de-espera-cuentaller-para-bebes-cuentos-de-primavera-jmdii/
LOCATION:Junta Municipal del Distrito II\, Av. Reyes Católicos\, 9\, Alcalá de Henares\, Madrid\, 28803\, España
CATEGORIES:Talleres - Distrito II - Lista de Espera
ATTACH;FMTTYPE=image/png:https://inscripciones.ayto-alcaladehenares.es/wp-content/uploads/2026/01/cuentos-de-primavera.png
ORGANIZER;CN="Concejal%C3%ADa de Familia%2C Juventud e Infancia":MAILTO:infancia@ayto-alcaladehenares.es
END:VEVENT
END:VCALENDAR