BEGIN:VCALENDAR
VERSION:2.0
PRODID:-//Servicio de Inscripciones Municipales - ECPv6.15.20//NONSGML v1.0//EN
CALSCALE:GREGORIAN
METHOD:PUBLISH
X-WR-CALNAME:Servicio de Inscripciones Municipales
X-ORIGINAL-URL:https://inscripciones.ayto-alcaladehenares.es
X-WR-CALDESC:Eventos para Servicio de Inscripciones Municipales
REFRESH-INTERVAL;VALUE=DURATION:PT1H
X-Robots-Tag:noindex
X-PUBLISHED-TTL:PT1H
BEGIN:VTIMEZONE
TZID:Europe/Madrid
BEGIN:DAYLIGHT
TZOFFSETFROM:+0100
TZOFFSETTO:+0200
TZNAME:CEST
DTSTART:20230326T010000
END:DAYLIGHT
BEGIN:STANDARD
TZOFFSETFROM:+0200
TZOFFSETTO:+0100
TZNAME:CET
DTSTART:20231029T010000
END:STANDARD
BEGIN:DAYLIGHT
TZOFFSETFROM:+0100
TZOFFSETTO:+0200
TZNAME:CEST
DTSTART:20240331T010000
END:DAYLIGHT
BEGIN:STANDARD
TZOFFSETFROM:+0200
TZOFFSETTO:+0100
TZNAME:CET
DTSTART:20241027T010000
END:STANDARD
BEGIN:DAYLIGHT
TZOFFSETFROM:+0100
TZOFFSETTO:+0200
TZNAME:CEST
DTSTART:20250330T010000
END:DAYLIGHT
BEGIN:STANDARD
TZOFFSETFROM:+0200
TZOFFSETTO:+0100
TZNAME:CET
DTSTART:20251026T010000
END:STANDARD
END:VTIMEZONE
BEGIN:VEVENT
DTSTART;TZID=Europe/Madrid:20240926T110000
DTEND;TZID=Europe/Madrid:20240926T120000
DTSTAMP:20260422T061849
CREATED:20240917T101411Z
LAST-MODIFIED:20240918T062231Z
UID:10001555-1727348400-1727352000@inscripciones.ayto-alcaladehenares.es
SUMMARY:Actividades Lúdicas de Promoción de Salud Cardiovascular en Centros de Mayores
DESCRIPTION:COLABORA: Concejalía de Mayores \nACTIVIDAD CERRADA – GRUPOS CONCERTADOS \n 
URL:https://inscripciones.ayto-alcaladehenares.es/evento/actividades-ludicas-de-promocion-de-salud-cardiovascular-en-centros-de-mayores/
LOCATION:Centros de Mayores\, Alcalá de Henares\, Madrid\, España
CATEGORIES:Semana del Corazón
ORGANIZER;CN="Concejal%C3%ADa de Salud":MAILTO:csalud@ayto-alcaladehenares.es
END:VEVENT
END:VCALENDAR