BEGIN:VCALENDAR
VERSION:2.0
PRODID:-//Servicio de Inscripciones Municipales - ECPv6.15.20//NONSGML v1.0//EN
CALSCALE:GREGORIAN
METHOD:PUBLISH
X-WR-CALNAME:Servicio de Inscripciones Municipales
X-ORIGINAL-URL:https://inscripciones.ayto-alcaladehenares.es
X-WR-CALDESC:Eventos para Servicio de Inscripciones Municipales
REFRESH-INTERVAL;VALUE=DURATION:PT1H
X-Robots-Tag:noindex
X-PUBLISHED-TTL:PT1H
BEGIN:VTIMEZONE
TZID:Europe/Madrid
BEGIN:DAYLIGHT
TZOFFSETFROM:+0100
TZOFFSETTO:+0200
TZNAME:CEST
DTSTART:20230326T010000
END:DAYLIGHT
BEGIN:STANDARD
TZOFFSETFROM:+0200
TZOFFSETTO:+0100
TZNAME:CET
DTSTART:20231029T010000
END:STANDARD
BEGIN:DAYLIGHT
TZOFFSETFROM:+0100
TZOFFSETTO:+0200
TZNAME:CEST
DTSTART:20240331T010000
END:DAYLIGHT
BEGIN:STANDARD
TZOFFSETFROM:+0200
TZOFFSETTO:+0100
TZNAME:CET
DTSTART:20241027T010000
END:STANDARD
BEGIN:DAYLIGHT
TZOFFSETFROM:+0100
TZOFFSETTO:+0200
TZNAME:CEST
DTSTART:20250330T010000
END:DAYLIGHT
BEGIN:STANDARD
TZOFFSETFROM:+0200
TZOFFSETTO:+0100
TZNAME:CET
DTSTART:20251026T010000
END:STANDARD
END:VTIMEZONE
BEGIN:VEVENT
DTSTART;TZID=Europe/Madrid:20241223T113000
DTEND;TZID=Europe/Madrid:20241223T130000
DTSTAMP:20260422T091210
CREATED:20241125T110929Z
LAST-MODIFIED:20241205T130456Z
UID:10001786-1734953400-1734958800@inscripciones.ayto-alcaladehenares.es
SUMMARY:[LISTA DE ESPERA] Taller en las Casitas de la Navidad: Manualidad pintura “Don Arbolito Circulitos” – 23 diciembre
DESCRIPTION:ATENCIÓN: \nLa inscripción se hará efectiva cuando se DESCARGUE\, CUMPLIMENTE Y ENVÍE la siguiente FICHA DE INSCRIPCIÓN  al siguiente correo: actividadesinfancia@ayto-alcaladehenares.es\n\nDESCARGAR FICHA DE INSCRIPCIÓN \n\n\nMÁXIMO DOS MENORES POR PRE – INSCRIPCIÓN\nEl Centro Fia C/Paula Montal S/N\, Alcalá de Henares\, Madrid\, España\nEDAD DE 3 A 5 AÑOS\nCompañía que lo realiza: EOM \n¡Empezamos la Navidad! ¿y qué es lo primero que tenemos que hacer? ¡Poner el árbol de Navidad!\nLos más Peques van a poder hacer su singular árbol de Navidad con materiales reciclados y… ¡muchos circulitos pintados! ¡Se lo van a pasar en grande! \n  \n\n  \n 
URL:https://inscripciones.ayto-alcaladehenares.es/evento/lista-de-espera-taller-en-las-casitas-de-la-navidad-manualidad-pintura-don-arbolito-circulitos-23-diciembre-3/
LOCATION:El Centro Fia\, C/Paula Montal S/N\, Alcalá de Henares\, Madrid\, 28805\, España
CATEGORIES:Listas de espera,Navidad llega a tu barrio 2024
ATTACH;FMTTYPE=image/png:https://inscripciones.ayto-alcaladehenares.es/wp-content/uploads/2024/11/Captura-de-pantalla-2024-11-28-092726.png
ORGANIZER;CN="Concejal%C3%ADa de Infancia":MAILTO:infancia@ayto-alcaladehenares.es
END:VEVENT
BEGIN:VEVENT
DTSTART;TZID=Europe/Madrid:20241223T113000
DTEND;TZID=Europe/Madrid:20241223T130000
DTSTAMP:20260422T091210
CREATED:20241125T110717Z
LAST-MODIFIED:20241209T091311Z
UID:10001785-1734953400-1734958800@inscripciones.ayto-alcaladehenares.es
SUMMARY:[PRE - INSCRIPCIÓN] Taller en las Casitas de la Navidad: Manualidad pintura "Don Arbolito Circulitos" - 23 diciembre
DESCRIPTION:LISTA DE ESPERA\n \n\nATENCIÓN: \nA partir del día 10 de Diciembre a las 10:00h de la mañana\, se abrirá el periodo de inscripción\, y se habilitará la pre-incripción de asistentes \, una vez realizada la pre-inscripción en esta página se deberán seguir los siguientes pasos para que la inscripción sea efectiva.\nLa inscripción se hará efectiva cuando se DESCARGUE\, CUMPLIMENTE Y ENVÍE la siguiente FICHA DE INSCRIPCIÓN  al siguiente correo: actividadesinfancia@ayto-alcaladehenares.es\nNo se tendrán en cuenta las fichas cuyos asistentes no aparecen en las lista de pre-inscripción\, es decir\, no se han pre-inscrito previamente.\n  \n\nDESCARGAR FICHA DE INSCRIPCIÓN \n\n\nMÁXIMO DOS MENORES POR PRE – INSCRIPCIÓN\nEl Centro Fia C/Paula Montal S/N\, Alcalá de Henares\, Madrid\, España\nEDAD DE 3 A 5 AÑOS\nCompañía que lo realiza: EOM \n¡Empezamos la Navidad! ¿y qué es lo primero que tenemos que hacer? ¡Poner el árbol de Navidad!\nLos más Peques van a poder hacer su singular árbol de Navidad con materiales reciclados y… ¡muchos circulitos pintados! ¡Se lo van a pasar en grande! \n\n  \n 
URL:https://inscripciones.ayto-alcaladehenares.es/evento/pre-inscripcion-taller-en-las-casitas-de-la-navidad-manualidad-pintura-don-arbolito-circulitos-23-diciembre-1130h/
LOCATION:El Centro Fia\, C/Paula Montal S/N\, Alcalá de Henares\, Madrid\, 28805\, España
CATEGORIES:Centros Fia de 3 a 5 años,Navidad llega a tu barrio 2024,Talleres de 3 a 5 años
ATTACH;FMTTYPE=image/png:https://inscripciones.ayto-alcaladehenares.es/wp-content/uploads/2024/11/Captura-de-pantalla-2024-11-28-092726.png
ORGANIZER;CN="Concejal%C3%ADa de Infancia":MAILTO:infancia@ayto-alcaladehenares.es
END:VEVENT
END:VCALENDAR