BEGIN:VCALENDAR
VERSION:2.0
PRODID:-//Servicio de Inscripciones Municipales - ECPv6.15.20//NONSGML v1.0//EN
CALSCALE:GREGORIAN
METHOD:PUBLISH
X-ORIGINAL-URL:https://inscripciones.ayto-alcaladehenares.es
X-WR-CALDESC:Eventos para Servicio de Inscripciones Municipales
REFRESH-INTERVAL;VALUE=DURATION:PT1H
X-Robots-Tag:noindex
X-PUBLISHED-TTL:PT1H
BEGIN:VTIMEZONE
TZID:Europe/Madrid
BEGIN:DAYLIGHT
TZOFFSETFROM:+0100
TZOFFSETTO:+0200
TZNAME:CEST
DTSTART:20230326T010000
END:DAYLIGHT
BEGIN:STANDARD
TZOFFSETFROM:+0200
TZOFFSETTO:+0100
TZNAME:CET
DTSTART:20231029T010000
END:STANDARD
BEGIN:DAYLIGHT
TZOFFSETFROM:+0100
TZOFFSETTO:+0200
TZNAME:CEST
DTSTART:20240331T010000
END:DAYLIGHT
BEGIN:STANDARD
TZOFFSETFROM:+0200
TZOFFSETTO:+0100
TZNAME:CET
DTSTART:20241027T010000
END:STANDARD
BEGIN:DAYLIGHT
TZOFFSETFROM:+0100
TZOFFSETTO:+0200
TZNAME:CEST
DTSTART:20250330T010000
END:DAYLIGHT
BEGIN:STANDARD
TZOFFSETFROM:+0200
TZOFFSETTO:+0100
TZNAME:CET
DTSTART:20251026T010000
END:STANDARD
END:VTIMEZONE
BEGIN:VEVENT
DTSTART;VALUE=DATE:20240922
DTEND;VALUE=DATE:20240923
DTSTAMP:20260424T022029
CREATED:20240917T100451Z
LAST-MODIFIED:20240918T062631Z
UID:10001554-1726963200-1727049599@inscripciones.ayto-alcaladehenares.es
SUMMARY:Ruta 6ª Etapa del Camino Complutense
DESCRIPTION:ORGANIZA: Asociación de Corazones Sanos del Henares \n  \n 
URL:https://inscripciones.ayto-alcaladehenares.es/evento/ruta-6a-etapa-del-camino-complutense-2/
LOCATION:Granja de San Ildefonso\, Plaza de España\, 15\, Real Sitio de San Ildefonso\, Segovia\, Castilla y León\, 40100\, España
CATEGORIES:Semana del Corazón
ORGANIZER;CN="Concejal%C3%ADa de Salud":MAILTO:csalud@ayto-alcaladehenares.es
END:VEVENT
END:VCALENDAR