BEGIN:VCALENDAR
VERSION:2.0
PRODID:-//Servicio de Inscripciones Municipales - ECPv6.15.20//NONSGML v1.0//EN
CALSCALE:GREGORIAN
METHOD:PUBLISH
X-ORIGINAL-URL:https://inscripciones.ayto-alcaladehenares.es
X-WR-CALDESC:Eventos para Servicio de Inscripciones Municipales
REFRESH-INTERVAL;VALUE=DURATION:PT1H
X-Robots-Tag:noindex
X-PUBLISHED-TTL:PT1H
BEGIN:VTIMEZONE
TZID:Europe/Madrid
BEGIN:DAYLIGHT
TZOFFSETFROM:+0100
TZOFFSETTO:+0200
TZNAME:CEST
DTSTART:20230326T010000
END:DAYLIGHT
BEGIN:STANDARD
TZOFFSETFROM:+0200
TZOFFSETTO:+0100
TZNAME:CET
DTSTART:20231029T010000
END:STANDARD
BEGIN:DAYLIGHT
TZOFFSETFROM:+0100
TZOFFSETTO:+0200
TZNAME:CEST
DTSTART:20240331T010000
END:DAYLIGHT
BEGIN:STANDARD
TZOFFSETFROM:+0200
TZOFFSETTO:+0100
TZNAME:CET
DTSTART:20241027T010000
END:STANDARD
BEGIN:DAYLIGHT
TZOFFSETFROM:+0100
TZOFFSETTO:+0200
TZNAME:CEST
DTSTART:20250330T010000
END:DAYLIGHT
BEGIN:STANDARD
TZOFFSETFROM:+0200
TZOFFSETTO:+0100
TZNAME:CET
DTSTART:20251026T010000
END:STANDARD
END:VTIMEZONE
BEGIN:VEVENT
DTSTART;TZID=Europe/Madrid:20240929T093000
DTEND;TZID=Europe/Madrid:20240929T133000
DTSTAMP:20260425T042341
CREATED:20240917T103700Z
LAST-MODIFIED:20240918T062505Z
UID:10001570-1727602200-1727616600@inscripciones.ayto-alcaladehenares.es
SUMMARY:Marcha Cardiosaludable
DESCRIPTION:COLABORA: Asociación Corazones Sanos del Henares \n 
URL:https://inscripciones.ayto-alcaladehenares.es/evento/marcha-cardiosaludable/
LOCATION:Leroy Merlín a Meco-Encín-Mirador-Leroy Merlín\, Centro Comercial La Dehesa\, Carr. Nacional II\, Km. 32\, 28805 Alcalá de Henares\, Madrid\, España\, Alcalá de Henares\, Madrid\, 28801\, España
CATEGORIES:Semana del Corazón
ORGANIZER;CN="Concejal%C3%ADa de Salud":MAILTO:csalud@ayto-alcaladehenares.es
END:VEVENT
END:VCALENDAR