BEGIN:VCALENDAR
VERSION:2.0
PRODID:-//Servicio de Inscripciones Municipales - ECPv6.15.20//NONSGML v1.0//EN
CALSCALE:GREGORIAN
METHOD:PUBLISH
X-ORIGINAL-URL:https://inscripciones.ayto-alcaladehenares.es
X-WR-CALDESC:Eventos para Servicio de Inscripciones Municipales
REFRESH-INTERVAL;VALUE=DURATION:PT1H
X-Robots-Tag:noindex
X-PUBLISHED-TTL:PT1H
BEGIN:VTIMEZONE
TZID:Europe/Madrid
BEGIN:DAYLIGHT
TZOFFSETFROM:+0100
TZOFFSETTO:+0200
TZNAME:CEST
DTSTART:20240331T010000
END:DAYLIGHT
BEGIN:STANDARD
TZOFFSETFROM:+0200
TZOFFSETTO:+0100
TZNAME:CET
DTSTART:20241027T010000
END:STANDARD
BEGIN:DAYLIGHT
TZOFFSETFROM:+0100
TZOFFSETTO:+0200
TZNAME:CEST
DTSTART:20250330T010000
END:DAYLIGHT
BEGIN:STANDARD
TZOFFSETFROM:+0200
TZOFFSETTO:+0100
TZNAME:CET
DTSTART:20251026T010000
END:STANDARD
BEGIN:DAYLIGHT
TZOFFSETFROM:+0100
TZOFFSETTO:+0200
TZNAME:CEST
DTSTART:20260329T010000
END:DAYLIGHT
BEGIN:STANDARD
TZOFFSETFROM:+0200
TZOFFSETTO:+0100
TZNAME:CET
DTSTART:20261025T010000
END:STANDARD
END:VTIMEZONE
BEGIN:VEVENT
DTSTART;TZID=Europe/Madrid:20250924T100000
DTEND;TZID=Europe/Madrid:20250924T130000
DTSTAMP:20260419T173303
CREATED:20250915T070026Z
LAST-MODIFIED:20250910T112551Z
UID:10002151-1758708000-1758718800@inscripciones.ayto-alcaladehenares.es
SUMMARY:MARCHA Y DESAYUNO CARDIOSALUDABLE
DESCRIPTION:Tipo de evento: ACTIVIDAD \nCompañía: ASOCIACIÓN CORAZONES SANOS/HUPA/ALCALÁ GASTRONÓMICA FOMENTUR \nRango de edad: POBLACIÓN GENERAL \nMARCHA DESDE LA PUERTA PRINCIPAL DE HUPA HASTA LA CASITA DEL O´DONNELL \nNo se requiere inscripción \nLugar en el que comienza: PUERTA PRINCIPAL HOSPITAL PRÍNCIPE DE ASTURIAS
URL:https://inscripciones.ayto-alcaladehenares.es/evento/marcha-y-desayuno-cardiosaludable/
LOCATION:Puerta Principal Hospital Universitario Príncipe de Asturias\, Hospital Universitario Príncipe de Asturias\, Alcalá de Henares\, Madrid\, 28805\, España
CATEGORIES:Semana del corazón 2025
ATTACH;FMTTYPE=image/png:https://inscripciones.ayto-alcaladehenares.es/wp-content/uploads/2025/09/marcha-y-desayuno.png
END:VEVENT
END:VCALENDAR