BEGIN:VCALENDAR
VERSION:2.0
PRODID:-//Servicio de Inscripciones Municipales - ECPv6.15.20//NONSGML v1.0//EN
CALSCALE:GREGORIAN
METHOD:PUBLISH
X-WR-CALNAME:Servicio de Inscripciones Municipales
X-ORIGINAL-URL:https://inscripciones.ayto-alcaladehenares.es
X-WR-CALDESC:Eventos para Servicio de Inscripciones Municipales
REFRESH-INTERVAL;VALUE=DURATION:PT1H
X-Robots-Tag:noindex
X-PUBLISHED-TTL:PT1H
BEGIN:VTIMEZONE
TZID:Europe/Madrid
BEGIN:DAYLIGHT
TZOFFSETFROM:+0100
TZOFFSETTO:+0200
TZNAME:CEST
DTSTART:20230326T010000
END:DAYLIGHT
BEGIN:STANDARD
TZOFFSETFROM:+0200
TZOFFSETTO:+0100
TZNAME:CET
DTSTART:20231029T010000
END:STANDARD
BEGIN:DAYLIGHT
TZOFFSETFROM:+0100
TZOFFSETTO:+0200
TZNAME:CEST
DTSTART:20240331T010000
END:DAYLIGHT
BEGIN:STANDARD
TZOFFSETFROM:+0200
TZOFFSETTO:+0100
TZNAME:CET
DTSTART:20241027T010000
END:STANDARD
BEGIN:DAYLIGHT
TZOFFSETFROM:+0100
TZOFFSETTO:+0200
TZNAME:CEST
DTSTART:20250330T010000
END:DAYLIGHT
BEGIN:STANDARD
TZOFFSETFROM:+0200
TZOFFSETTO:+0100
TZNAME:CET
DTSTART:20251026T010000
END:STANDARD
END:VTIMEZONE
BEGIN:VEVENT
DTSTART;TZID=Europe/Madrid:20240925T120000
DTEND;TZID=Europe/Madrid:20240925T130000
DTSTAMP:20260421T141043
CREATED:20240917T101334Z
LAST-MODIFIED:20240918T062144Z
UID:10001556-1727265600-1727269200@inscripciones.ayto-alcaladehenares.es
SUMMARY:Beneficios de la Naturaleza en el control del estrés
DESCRIPTION:COLABORA: Real Jardín Botánico de la Universidad de Alcalá y C.S. Miguel de Cervantes \nINSCRIPCIÓN EN EL CENTRO DE SALUD \n 
URL:https://inscripciones.ayto-alcaladehenares.es/evento/beneficios-de-la-naturaleza-en-el-control-del-estres/
LOCATION:Real Jardín Botánico de la Universidad de Alcalá\, Campus Universitario\, C. 36\, Alcalá de Henares\, Madrid\, 28805\, España
CATEGORIES:Semana del Corazón
ORGANIZER;CN="Concejal%C3%ADa de Salud":MAILTO:csalud@ayto-alcaladehenares.es
END:VEVENT
END:VCALENDAR