BEGIN:VCALENDAR
VERSION:2.0
PRODID:-//Servicio de Inscripciones Municipales - ECPv6.15.20//NONSGML v1.0//EN
CALSCALE:GREGORIAN
METHOD:PUBLISH
X-WR-CALNAME:Servicio de Inscripciones Municipales
X-ORIGINAL-URL:https://inscripciones.ayto-alcaladehenares.es
X-WR-CALDESC:Eventos para Servicio de Inscripciones Municipales
REFRESH-INTERVAL;VALUE=DURATION:PT1H
X-Robots-Tag:noindex
X-PUBLISHED-TTL:PT1H
BEGIN:VTIMEZONE
TZID:Europe/Madrid
BEGIN:DAYLIGHT
TZOFFSETFROM:+0100
TZOFFSETTO:+0200
TZNAME:CEST
DTSTART:20240331T010000
END:DAYLIGHT
BEGIN:STANDARD
TZOFFSETFROM:+0200
TZOFFSETTO:+0100
TZNAME:CET
DTSTART:20241027T010000
END:STANDARD
BEGIN:DAYLIGHT
TZOFFSETFROM:+0100
TZOFFSETTO:+0200
TZNAME:CEST
DTSTART:20250330T010000
END:DAYLIGHT
BEGIN:STANDARD
TZOFFSETFROM:+0200
TZOFFSETTO:+0100
TZNAME:CET
DTSTART:20251026T010000
END:STANDARD
BEGIN:DAYLIGHT
TZOFFSETFROM:+0100
TZOFFSETTO:+0200
TZNAME:CEST
DTSTART:20260329T010000
END:DAYLIGHT
BEGIN:STANDARD
TZOFFSETFROM:+0200
TZOFFSETTO:+0100
TZNAME:CET
DTSTART:20261025T010000
END:STANDARD
END:VTIMEZONE
BEGIN:VEVENT
DTSTART;TZID=Europe/Madrid:20251018T090000
DTEND;TZID=Europe/Madrid:20251018T190000
DTSTAMP:20260423T082326
CREATED:20250922T080051Z
LAST-MODIFIED:20251001T062145Z
UID:10002174-1760778000-1760814000@inscripciones.ayto-alcaladehenares.es
SUMMARY:EXCURSIÓN  ”ESCAPE TOUR TEATRALIZADO A TOLEDO”
DESCRIPTION:  \n\nPodrás apuntarte a partir del próximo 29 de septiembre desde las 10:00. \nTipo de evento: EXCURSIÓN DE  JORNADA COMPLETA \nCompañía que lo realiza:  EOM  \nRango de edad: TODAS LAS EDADES\, FAMILIAS CON NIÑOS DE 3 A 12 AÑOS \nSoló podrán apuntarse en una misma inscripción los miembros de una misma unidad familiar\, máximo 4 menores y dos adultos por inscripción. \nLUGAR: SALIDA DESDE LAS DARSENAS DEL RECINTO FERIAL\, JUNTO AL CAMPO DE FUTBOL \nDescripción: \nExcursión familiar a Toledo en la que disfrutaremos de una visita donde tendrán  convergencia  historia\, arte y teatro. \nActuando como hilo conductor de esta visita\, las familias que asistan\, serán guiados por el centro de Toledo por dos agentes del tiempo del s. XV que actuarán como verdaderos agentes del s. XV\, creando una atmósfera más realista e inmersiva para toda la familia\, estos agentes les guiaran a través de las calles de Toledo\, conociendo los diferentes monumentos y desentrañando las pruebas que se les propondrá a los niños y niñas participantes para que puedan realizarlas con ayuda de sus familias y amigos. Las pruebas estarán siempre ligadas a la historia o los propios monumentos. \nSe invitará a los niños a coger un «LIBRO DE ENIGMAS» que irán completando y recibiendo un sello por cada prueba completada (entre todos). También recibirán como recompensa una pieza\, por cada monumento\, de un puzle que les ayudará a conseguir la llave que abrirá el cofre final que contiene la solución a la anomalía y cada agente del tiempo les entregará una carta de «reclutamiento» para la Orden del Tiempo y convertirse en agentes. \nLa ruta consiste en un paseo por el centro histórico de la ciudad. Comenzando desde el Puente de San Martín y finalizando en la Plaza de Zocodover. \nActividad para toda la familia. \nLa actividad se realzará por la mañana\, después tendremos un tiempo para comer y por la tarde visita libre por parte de las familias de la ciudad de Toledo. \nEXCURSIÓN FAMILIAR\, VISITA CULTURAL TEATRALIZADA . EDAD RECOMENDADA A PARTIR DE 7 AÑOS  (Pero se admiten todas las edades)
URL:https://inscripciones.ayto-alcaladehenares.es/evento/excursion-escape-tour-teatralizado-a-toledo/
LOCATION:Recinto Ferial\, Rda. del Henares\, 19\, Alcalá de Henares\, Madrid\, 28804\, España
CATEGORIES:Excursión 2025 OFJ
ATTACH;FMTTYPE=image/png:https://inscripciones.ayto-alcaladehenares.es/wp-content/uploads/2025/09/ESCAPE-TOUR-TEATRALIZADO-A-TOLEDO.png
ORGANIZER;CN="Concejal%C3%ADa de Familia%2C Juventud e Infancia":MAILTO:infancia@ayto-alcaladehenares.es
END:VEVENT
BEGIN:VEVENT
DTSTART;TZID=Europe/Madrid:20251018T090000
DTEND;TZID=Europe/Madrid:20251018T190000
DTSTAMP:20260423T082326
CREATED:20250922T080030Z
LAST-MODIFIED:20250930T051001Z
UID:10002175-1760778000-1760814000@inscripciones.ayto-alcaladehenares.es
SUMMARY:LISTA DE ESPERA - EXCURSIÓN  ”ESCAPE TOUR TEATRALIZADO A TOLEDO”
DESCRIPTION:  \n\nPodrás apuntarte a partir del próximo 29 de septiembre desde las 10:00. \nTipo de evento: EXCURSIÓN DE  JORNADA COMPLETA \nCompañía que lo realiza:  EOM \nRango de edad: TODAS LAS EDADES\, FAMILIAS CON NIÑOS DE 3 A 12 AÑOS \nSoló podrán apuntarse en una misma inscripción los miembros de una misma unidad familiar\, máximo 4 menores y dos adultos por inscripción. \nLUGAR: SALIDA DESDE LAS DARSENAS DEL RECINTO FERIAL\, JUNTO AL CAMPO DE FUTBOL \nDescripción: \nExcursión familiar a Toledo en la que disfrutaremos de una visita donde tendrán  convergencia  historia\, arte y teatro. \nActuando como hilo conductor de esta visita\, las familias que asistan\, serán guiados por el centro de Toledo por dos agentes del tiempo del s. XV que actuarán como verdaderos agentes del s. XV\, creando una atmósfera más realista e inmersiva para toda la familia\, estos agentes les guiaran a través de las calles de Toledo\, conociendo los diferentes monumentos y desentrañando las pruebas que se les propondrá a los niños y niñas participantes para que puedan realizarlas con ayuda de sus familias y amigos. Las pruebas estarán siempre ligadas a la historia o los propios monumentos. \nSe invitará a los niños a coger un «LIBRO DE ENIGMAS» que irán completando y recibiendo un sello por cada prueba completada (entre todos). También recibirán como recompensa una pieza\, por cada monumento\, de un puzle que les ayudará a conseguir la llave que abrirá el cofre final que contiene la solución a la anomalía y cada agente del tiempo les entregará una carta de «reclutamiento» para la Orden del Tiempo y convertirse en agentes. \nLa ruta consiste en un paseo por el centro histórico de la ciudad. Comenzando desde el Puente de San Martín y finalizando en la Plaza de Zocodover. \nActividad para toda la familia. \nLa actividad se realzará por la mañana\, después tendremos un tiempo para comer y por la tarde visita libre por parte de las familias de la ciudad de Toledo. \nEXCURSIÓN FAMILIAR\, VISITA CULTURAL TEATRALIZADA . EDAD RECOMENDADA A PARTIR DE 7 AÑOS  (Pero se admiten todas las edades) \n  \n 
URL:https://inscripciones.ayto-alcaladehenares.es/evento/lista-de-espera-excursion-escape-tour-teatralizado-a-toledo/
LOCATION:Recinto Ferial\, Rda. del Henares\, 19\, Alcalá de Henares\, Madrid\, 28804\, España
CATEGORIES:Excursión 2025 OFJ Lista de espera
ATTACH;FMTTYPE=image/png:https://inscripciones.ayto-alcaladehenares.es/wp-content/uploads/2025/09/ESCAPE-TOUR-TEATRALIZADO-A-TOLEDO.png
ORGANIZER;CN="Concejal%C3%ADa de Familia%2C Juventud e Infancia":MAILTO:infancia@ayto-alcaladehenares.es
END:VEVENT
BEGIN:VEVENT
DTSTART;TZID=Europe/Madrid:20250921T100000
DTEND;TZID=Europe/Madrid:20250921T120000
DTSTAMP:20260423T082326
CREATED:20250915T070031Z
LAST-MODIFIED:20250912T065536Z
UID:10002128-1758448800-1758456000@inscripciones.ayto-alcaladehenares.es
SUMMARY:MARCHA PARQUE FERIAL-PUENTE AZUL (IDA Y VUELTA 13KM)
DESCRIPTION:Tipo de evento: ACTIVIDAD \nCompañía: ASOCIACIÓN CORAZONES SANOS DEL HENARES \nRango de edad: POBLACIÓN GENERAL \nNo es necesaria la inscripción \nLugar en el que comienza: PARQUE FERIAL
URL:https://inscripciones.ayto-alcaladehenares.es/evento/marcha-parque-ferial-puente-azul-ida-y-vuelta-13km/
LOCATION:Recinto Ferial\, Rda. del Henares\, 19\, Alcalá de Henares\, Madrid\, 28804\, España
CATEGORIES:Semana del corazón 2025
ATTACH;FMTTYPE=image/png:https://inscripciones.ayto-alcaladehenares.es/wp-content/uploads/2025/09/marcha-saludable.png
END:VEVENT
END:VCALENDAR