BEGIN:VCALENDAR
VERSION:2.0
PRODID:-//Servicio de Inscripciones Municipales - ECPv6.15.20//NONSGML v1.0//EN
CALSCALE:GREGORIAN
METHOD:PUBLISH
X-ORIGINAL-URL:https://inscripciones.ayto-alcaladehenares.es
X-WR-CALDESC:Eventos para Servicio de Inscripciones Municipales
REFRESH-INTERVAL;VALUE=DURATION:PT1H
X-Robots-Tag:noindex
X-PUBLISHED-TTL:PT1H
BEGIN:VTIMEZONE
TZID:Europe/Madrid
BEGIN:DAYLIGHT
TZOFFSETFROM:+0100
TZOFFSETTO:+0200
TZNAME:CEST
DTSTART:20230326T010000
END:DAYLIGHT
BEGIN:STANDARD
TZOFFSETFROM:+0200
TZOFFSETTO:+0100
TZNAME:CET
DTSTART:20231029T010000
END:STANDARD
BEGIN:DAYLIGHT
TZOFFSETFROM:+0100
TZOFFSETTO:+0200
TZNAME:CEST
DTSTART:20240331T010000
END:DAYLIGHT
BEGIN:STANDARD
TZOFFSETFROM:+0200
TZOFFSETTO:+0100
TZNAME:CET
DTSTART:20241027T010000
END:STANDARD
BEGIN:DAYLIGHT
TZOFFSETFROM:+0100
TZOFFSETTO:+0200
TZNAME:CEST
DTSTART:20250330T010000
END:DAYLIGHT
BEGIN:STANDARD
TZOFFSETFROM:+0200
TZOFFSETTO:+0100
TZNAME:CET
DTSTART:20251026T010000
END:STANDARD
END:VTIMEZONE
BEGIN:VEVENT
DTSTART;TZID=Europe/Madrid:20240926T110000
DTEND;TZID=Europe/Madrid:20240926T133000
DTSTAMP:20260421T103653
CREATED:20240917T103359Z
LAST-MODIFIED:20240918T060549Z
UID:10001572-1727348400-1727357400@inscripciones.ayto-alcaladehenares.es
SUMMARY:Jornada: "Continuidad asistencial: Juntos cuidando la salud cardiovascular"
DESCRIPTION:COLABORA: Hospital Universitario Príncipe de Asturias\, Dirección Asistencial Este y Asociación de Corazones Sanos del Henares \n 
URL:https://inscripciones.ayto-alcaladehenares.es/evento/jornada-continuidad-asistencial-juntos-cuidando-la-salud-cardiovascular/
LOCATION:Salón de Actos del Hospital Universitario Príncipe de Asturias\, Av. Principal de la Universidad\, 1E\, Alcalá de Henares\, Madrid\, 28805\, España
CATEGORIES:Semana del Corazón
ORGANIZER;CN="Concejal%C3%ADa de Salud":MAILTO:csalud@ayto-alcaladehenares.es
END:VEVENT
END:VCALENDAR